BEGIN:VCALENDAR
VERSION:2.0
PRODID:-//ChamberMaster//Event Calendar 2.0//EN
METHOD:PUBLISH
X-PUBLISHED-TTL:P3D
REFRESH-INTERVAL:P3D
CALSCALE:GREGORIAN
BEGIN:VEVENT
DTSTART:20210501T190000Z
DTEND:20210501T230000Z
X-MICROSOFT-CDO-ALLDAYEVENT:FALSE
SUMMARY:First Communion Portraits
DESCRIPTION:If you are celebrating you child's First Communion this spring\, this is your opportunity to commemorate it with studio portraits at Chosen Moments Photography. Not only will these portraits serve as a reminder of this time\, but will provide an excellent way to display beautiful photos of your child in your home\, and to share with family and friends. Don't let this occasion pass by with only a cellphone picture or two. Celebrate with mantle-worthy portraits!
X-ALT-DESC;FMTTYPE=text/html:If you are celebrating you child&#39\;s First Communion this spring\, this is your opportunity to commemorate it with studio portraits at <a href="http://Chosenmomentsphoto.com">Chosen Moments Photography</a>. Not only will these portraits serve as a reminder of this time\, but will provide an excellent way to display beautiful photos of your child in your home\, and to share with family and friends. Don&#39\;t let this occasion pass by with only a cellphone picture or two. Celebrate with mantle-worthy portraits!
LOCATION:Chosen Moments Studio 1 Four Corners Blvd\, Suite #5 Hopewell Junction\, NY 12533
UID:e.2770.10485099
SEQUENCE:3
DTSTAMP:20260421T101200Z
URL:http://dutchesscountyregional.smartcms.site/events/details/first-communion-portraits-10485099
END:VEVENT

END:VCALENDAR
