BEGIN:VCALENDAR
VERSION:2.0
PRODID:-//ChamberMaster//Event Calendar 2.0//EN
METHOD:PUBLISH
X-PUBLISHED-TTL:P3D
REFRESH-INTERVAL:P3D
CALSCALE:GREGORIAN
BEGIN:VEVENT
DTSTART:20181107T230000Z
DTEND:20181108T010000Z
X-MICROSOFT-CDO-ALLDAYEVENT:FALSE
SUMMARY:First Time Homebuyer Workshop
DESCRIPTION:Meet with Mortgage Experts and learn more about:\n\n	Advantages of home ownership\n	Mortgage qualification process\n	First time home buyer mortgage programs\n\n\n\nRefreshments will be served.
X-ALT-DESC;FMTTYPE=text/html:<strong><span style="color:rgb(0\, 51\, 153)">Meet with Mortgage Experts and learn more about:</span></strong>\n<ul>\n	<li>Advantages of home ownership</li>\n	<li>Mortgage qualification process</li>\n	<li>First time home buyer mortgage programs</li>\n</ul>\n<br />\n<strong>Refreshments will be served.</strong>
LOCATION:Poughkeepsie Underwear Factory 8 North Cherry Street Poughkeepsie\, NY 12601
UID:e.2770.10479827
SEQUENCE:3
DTSTAMP:20260425T160330Z
URL:http://dutchesscountyregional.smartcms.site/events/details/first-time-homebuyer-workshop-10479827
END:VEVENT

END:VCALENDAR
