BEGIN:VCALENDAR
VERSION:2.0
PRODID:-//ChamberMaster//Event Calendar 2.0//EN
METHOD:PUBLISH
X-PUBLISHED-TTL:P3D
REFRESH-INTERVAL:P3D
CALSCALE:GREGORIAN
BEGIN:VEVENT
DTSTART:20200312T220000Z
DTEND:20200313T000000Z
X-MICROSOFT-CDO-ALLDAYEVENT:FALSE
SUMMARY:First-Time Homebuyers Seminar - East Fishkill
DESCRIPTION:Join Tompkins Mahopac Bank and Hudson River Housing\, Inc. for an informative seminar to help first-time homebuyers navigate the various programs and services available to help start a home! Learn about the buying process from start to finish\, special first-time homebuyer products and services\, and more. Refreshments will be served and attendees will receive a gift item. Enter to win* a gift package featuring first-time homeowner essentials\, including a tool kit\, picture hangers\, gift cards\, and more! All loans subject to credit approval and to income and other qualifying guidelines. *No purchase necessary. Employees of Tompkins Financial\, its affiliates or Hudson River Housing\, Inc. are not eligible to win. For more information\, contact Glenn Wu at (845) 278-1068\, or GWu@tompkinsfinancial.com. Member FDIC. Equal Housing Lender.
X-ALT-DESC;FMTTYPE=text/html:Join Tompkins Mahopac Bank and Hudson River Housing\, Inc. for an informative seminar to help first-time homebuyers navigate the various programs and services available to help start a home! Learn about the buying process from start to finish\, special first-time homebuyer products and services\, and more. Refreshments will be served and attendees will receive a gift item. Enter to win* a gift package featuring first-time homeowner essentials\, including a tool kit\, picture hangers\, gift cards\, and more! All loans subject to credit approval and to income and other qualifying guidelines. *No purchase necessary. Employees of Tompkins Financial\, its affiliates or Hudson River Housing\, Inc. are not eligible to win. For more information\, contact Glenn Wu at (845) 278-1068\, or GWu@tompkinsfinancial.com. Member FDIC. Equal Housing Lender.
LOCATION:
UID:e.2770.10483140
SEQUENCE:3
DTSTAMP:20260422T091758Z
URL:http://dutchesscountyregional.smartcms.site/events/details/first-time-homebuyers-seminar-east-fishkill-10483140
END:VEVENT

END:VCALENDAR
