BEGIN:VCALENDAR
VERSION:2.0
PRODID:-//ChamberMaster//Event Calendar 2.0//EN
METHOD:PUBLISH
X-PUBLISHED-TTL:P3D
REFRESH-INTERVAL:P3D
CALSCALE:GREGORIAN
BEGIN:VEVENT
DTSTART:20200527T170000Z
DTEND:20200527T180000Z
X-MICROSOFT-CDO-ALLDAYEVENT:FALSE
SUMMARY:Five Money Questions for Women Webinar hosted by John Leigh\, Financial Advisor with Edward Jones
DESCRIPTION:John Leigh is hosting a free webinar called: Five Money Questions for Women\n\n\n\nFive Money Questions for Women is an educational program that shares perspective on a process women can use to identify financial goals and set a strategy.
X-ALT-DESC;FMTTYPE=text/html:John Leigh is hosting a free webinar called: Five Money Questions for Women<br />\n<br />\nFive Money Questions for Women is an educational program that shares perspective on a process women can use to identify financial goals and set a strategy.
LOCATION:Online Webinar
UID:e.2770.10483272
SEQUENCE:3
DTSTAMP:20260422T053850Z
URL:http://dutchesscountyregional.smartcms.site/events/details/five-money-questions-for-women-webinar-hosted-by-john-leigh-financial-advisor-with-edward-jones-10483272
END:VEVENT

END:VCALENDAR
