BEGIN:VCALENDAR
VERSION:2.0
PRODID:-//ChamberMaster//Event Calendar 2.0//EN
METHOD:PUBLISH
X-PUBLISHED-TTL:P3D
REFRESH-INTERVAL:P3D
CALSCALE:GREGORIAN
BEGIN:VEVENT
DTSTART:20190828T210000Z
DTEND:20190829T010000Z
X-MICROSOFT-CDO-ALLDAYEVENT:FALSE
SUMMARY:Floating Business Break
DESCRIPTION:MEMBERS ONLY*\n\nCountry Cowboy Cruise Theme Floating Business Break\; the Chamber's monthly networking event hits the Hudson with River Rose Tours out of Shadows Marina in Poughkeepsie. Network\, relax\, dine and unwind. Entertainment for the Floating Business Break will be provided by "The Throwback Brothers courtesy of John Hannah's Mobile Music Services".\n\n\n\nBoarding begins promptly at 5:30 p.m. with departure at 6 p.m. sharp. The cruise lasts until 9 p.m.\n\n\n\nFor Reservations\, Please Call: (845) 454-1700 Ext. 1000.\n\n\n\nSponsored by:\n\nBranding Pros\n\nIntegrated Enterprise Solutions\n\nMid-Hudson Valley Federal Credit Union\n\nPoughkeepsie Galleria\n\nStenger\, Roberts\, Davis and Diamond/SRDD Law
X-ALT-DESC;FMTTYPE=text/html:<p><br />\n<span style="font-size: 14px\;"><span style="font-family: arial\;"><span style="font-size: 16px\;"><span style="font-family: times new roman\;"><strong><span style="color: rgb(255\, 0\, 0)\;">MEMBERS ONLY*</span></strong></span></span></span></span></p>\n\n<p style="background: white\;"><span style="color: rgb(0\, 0\, 0)\;"><span style="font-size: 16px\;"><span style="font-family: courier new\;">Country Cowboy Cruise Theme Floating Business Break\; the Chamber&#39\;s monthly networking event hits the Hudson with River Rose Tours out of Shadows Marina in Poughkeepsie. Network\, relax\, dine and unwind.&nbsp\;Entertainment for the Floating Business Break will be provided by &ldquo\;The Throwback Brothers courtesy of John Hannah&#39\;s Mobile Music Services&rdquo\;.</span></span></span><br />\n<o:p></o:p></p>\n\n<p style="background: white\; word-spacing: 0px\; orphans: 2\; widows: 2\; -webkit-text-stroke-width: 0px\; font-variant-ligatures: normal\; font-variant-caps: normal\; text-decoration-style: initial\; text-decoration-color: initial\;"><strong><span style="font-size: 14px\;"><span style="font-family: tahoma\;">Boarding begins promptly at 5:30 p.m. with departure at 6 p.m. sharp. The cruise lasts until 9 p.m.</span></span></strong><o:p></o:p></p>\n\n<p><br />\n<span style="font-size: 14px\;"><span style="font-family: arial\;"><span style="font-size: 16px\;"><span style="font-family: times new roman\;"><span style="color: rgb(255\, 0\, 0)\;"><strong>For Reservations\, Please Call: (845) 454-1700 Ext. 1000.</strong></span></span></span><br />\n<br />\n<strong><span style="font-size: 16px\;">Sponsored by:</span></strong><br />\n<strong><a href="https://www.brandingpros.com/" target="_blank"><span style="color: rgb(0\, 0\, 255)\;">Branding Pros</span></a></strong><br />\n<strong><a href="https://ies-ny.com/" target="_blank"><span style="color: rgb(0\, 0\, 255)\;">Integrated Enterprise Solutions</span></a></strong></span></span><br />\n<strong style="font-family: arial\; font-size: 14px\;"><a href="http://www.mhvfcu.com" target="_blank"><span style="color: rgb(0\, 0\, 255)\;">Mid-Hudson Valley Federal Credit Union</span></a></strong><br />\n<span style="font-size: 14px\;"><span style="font-family: arial\;"><strong><a href="https://www.poughkeepsiegalleriamall.com/" target="_blank"><span style="color: rgb(0\, 0\, 255)\;">Poughkeepsie Galleria</span></a></strong><br />\n<strong><a href="http://www.mhvfcu.com" target="_blank"><span style="color: rgb(0\, 0\, 255)\;">Stenger\, Roberts\, Davis and Diamond/SRDD Law</span></a></strong></span></span></p>\n
LOCATION:River Rose Tours & Cruises Boarding: Shadows On The Hudson - Marina 176 Rinaldi Boulevard\, Poughkeepsie
UID:e.2770.10479887
SEQUENCE:3
DTSTAMP:20260423T001904Z
URL:http://dutchesscountyregional.smartcms.site/events/details/floating-business-break-08-28-2019-10479887
END:VEVENT

END:VCALENDAR
