BEGIN:VCALENDAR
VERSION:2.0
PRODID:-//ChamberMaster//Event Calendar 2.0//EN
METHOD:PUBLISH
X-PUBLISHED-TTL:P3D
REFRESH-INTERVAL:P3D
CALSCALE:GREGORIAN
BEGIN:VEVENT
DTSTART;VALUE=DATE:20200511
DTEND;VALUE=DATE:20200515
TRANSP:TRANSPARENT
X-MICROSOFT-CDO-ALLDAYEVENT:TRUE
SUMMARY:Food Drive for The Food Bank of the Hudson Valley hosted by Edward Jones
DESCRIPTION:Edward Jones is pairing up with The Food Bank of the Hudson Valley and are hosting a Food Drive to help out our local communities as everyone is being hit hard during this pandemic. The Food Drive will be hosted from May 11-14th and there are 6 locations within the County that you can drop off your donations to. The times and locations are listed below.
X-ALT-DESC;FMTTYPE=text/html:Edward Jones is pairing up with The Food Bank of the Hudson Valley and are hosting a Food Drive to help out our local communities as everyone is being hit hard during this pandemic. The Food Drive will be hosted from May 11-14th and there are 6 locations within the County that you can drop off your donations to. The times and locations are listed below.<br />\n<br />\n&nbsp\;
LOCATION:Hopewell Junction: 46 Foster Road Suite#2 Hopewell Junction\, NY 12533. Fishkill: 1399 Rt. 52 Suite 101 Fishkill\, NY 12524. Beacon: 284 Main Street Beacon\, NY 12508. Pleasant Valley: 1540 Route 44 Main Street Pleasant Valley\, NY 12569. Arlington: 695 Dutchess Turnpike Rte 44 Arlington\, NY 12603. Hyde Park: 4246 Albany Post Road Hyde Park\, NY 12538.
UID:e.2770.10483268
SEQUENCE:3
DTSTAMP:20260422T054021Z
URL:http://dutchesscountyregional.smartcms.site/events/details/food-drive-for-the-food-bank-of-the-hudson-valley-hosted-by-edward-jones-10483268
END:VEVENT

END:VCALENDAR
