BEGIN:VCALENDAR
VERSION:2.0
PRODID:-//ChamberMaster//Event Calendar 2.0//EN
METHOD:PUBLISH
X-PUBLISHED-TTL:P3D
REFRESH-INTERVAL:P3D
CALSCALE:GREGORIAN
BEGIN:VEVENT
DTSTART:20190216T150000Z
DTEND:20190216T220000Z
X-MICROSOFT-CDO-ALLDAYEVENT:FALSE
SUMMARY:Forty Under 40 - 2019 Honoree Head Shots (Session 2)
DESCRIPTION:Discounted Head Shot Opportunity for Forty Under 40 Honorees.\n\nPhotography provided by Chosen Moments
X-ALT-DESC;FMTTYPE=text/html:<span style="font: 400 13px/20.8px sans-serif\, Arial\, Verdana\, &quot\;Trebuchet MS&quot\;\; text-align: left\; color: rgb(51\, 51\, 51)\; text-transform: none\; text-indent: 0px\; letter-spacing: normal\; text-decoration: none\; word-spacing: 0px\; float: none\; display: inline !important\; white-space: normal\; cursor: text\; orphans: 2\; font-size-adjust: none\; font-stretch: normal\; background-color: rgb(255\, 255\, 255)\; -webkit-text-stroke-width: 0px\;">Discounted Head Shot Opportunity for Forty Under 40 Honorees.<br />\nPhotography provided by Chosen Moments</span>
LOCATION:Chosen Moments Photography 1 Four Corners Boulevard Suite 5 Hopewell Junction\, NY 12533
UID:e.2770.10480464
SEQUENCE:3
DTSTAMP:20260423T083912Z
URL:http://dutchesscountyregional.smartcms.site/events/details/forty-under-40-2019-honoree-head-shots-session-2-10480464
END:VEVENT

END:VCALENDAR
