BEGIN:VCALENDAR
VERSION:2.0
PRODID:-//ChamberMaster//Event Calendar 2.0//EN
METHOD:PUBLISH
X-PUBLISHED-TTL:P3D
REFRESH-INTERVAL:P3D
CALSCALE:GREGORIAN
BEGIN:VEVENT
DTSTART:20200821T003000Z
DTEND:20200821T020000Z
X-MICROSOFT-CDO-ALLDAYEVENT:FALSE
SUMMARY:Forty Under 40 Mover & Shaker Awards
DESCRIPTION:Still need a reservation? Please Call: (845) 454-1700 Ext. 1000.\n\n\n\n**There will be a limited number of tickets available for purchase at the gate.**\n\n\n\n***All individuals attending\, in all vehicles must make a reservation in advance. All attendees will be checked in by name at the gate\, there are no physical tickets. \n\n \n\nYou are invited to join the Dutchess County Regional Chamber of Commerce as we recognize and celebrate 40 of our region's best professionals under the age of 40 who embody the greatest talent in their industry. \n\n \n\nGrab your friends\, make some giant signs\, and honk your horns as we celebrate an epic event at the Hyde Park Drive-In Theatre. Each attendee will receive a cooler packed with refreshments\, including locally produced beverages. After the awards show\, stick around to watch an additional feature film on the house!\n\n\n\nIf you have not yet purchased a ticket for this event you can do so by before August 13. Individuals with an existing reservation from the originally scheduled ceremony will receive an email and must reply back to finalize their reservation for August 20th.\n\n \n\nFor more information\, click HERE.\n\n\n\nGates Open: 6 PM\, Showtime: 8:30 PM\, Movie to Follow.\n\n\n\nSpecial Guests: Emcees - Annie & Ryan of Q92\n\n\n\nVideo Production by: Forge Media\n\n\n\nSponsors:\n\n\n\nEvent Sponsors:\n\nN & S Supply LLC\n\nRhinebeck Bank\n\n\n\nMover & Shaker Sponsors:\n\nAnimal Farm Foundation\n\nCareMount Medical\n\nCentral Hudson Gas & Electric Corporation\n\nJGS\, CPA\n\nM & T Bank\n\nMackey Butts & Wise\, LLP\n\nMarshall & Sterling Insurance\n\nMount Saint Mary College\n\nRBT CPAs\, LLP\n\nRose & Kiernan Insurance\n\nTompkins Mahopac Bank\n\n\n\nPopcorn Sponsor:\n\nMid-Hudson Valley Federal Credit Union\n\n\n\nFeature Film Sponsor:\n\nTipsy Social\n\n\n\nInterview Sponsor:\n\nImpact PR & Communications\n\n\n\nProfile Sponsor:\n\nHudson Cadillac Buick GMC\n\nAward Sponsor:\n\nDe'S Jewelers\n\n\n\nBeverage Sponsor:\n\nSloop Brewing Co.
X-ALT-DESC;FMTTYPE=text/html:<div style="background-color: transparent\; box-sizing: border-box\; color: rgb(119\, 119\, 119)\; font-size: 12px\; font-variant-numeric: normal\; font-variant-east-asian: normal\; text-align: center\;">&nbsp\;</div>\n\n<p><strong><span style="font-size:18px\;"><em><span style="font-family: Tahoma\, sans-serif\; background: yellow\;"><span style="color: rgb(255\, 0\, 0)\;">Still need a reservation? Please Call: (845) 454-1700 Ext. 1000.<br />\n<br />\n**There will be a limited number of tickets available for purchase&nbsp\;at the gate.**</span></span></em></span></strong><br />\n<br />\n<strong><span style="font-size:18px\;"><em><span style="font-family: Tahoma\, sans-serif\; background: yellow\;">***All individuals attending\, in all vehicles must make a reservation in advance. All attendees will be checked in by name at the gate\, there are no physical tickets.&nbsp\;</span></em></span></strong><br />\n&nbsp\;</p>\n\n<div style="font-variant-numeric: normal\; font-variant-east-asian: normal\; background-color: transparent\; box-sizing: border-box\; text-align: center\;"><span style="color: rgb(0\, 0\, 0)\; font-family: tahoma\; font-size: 16px\; box-sizing: border-box\;">You are invited to join the Dutchess County Regional Chamber of Commerce as we recognize and celebrate 40 of our region&#39\;s best professionals under the age of 40 who embody the greatest talent in their industry.&nbsp\;<br style="box-sizing: border-box\;" />\n&nbsp\;<br style="box-sizing: border-box\;" />\nGrab your friends\, make some giant signs\, and honk your horns as we celebrate an epic event at the Hyde Park Drive-In Theatre.</span><span style="box-sizing: border-box\; font-size: 14.6667px\;"><font color="#1f497d" face="calibri\, sans-serif">&nbsp\;</font></span><span style="color: rgb(119\, 119\, 119)\; font-size: 16px\;"><span style="font-family:tahoma\;"><span style="box-sizing: border-box\; color: rgb(0\, 0\, 0)\;">Each attendee will receive a cooler packed with refreshments\, including locally produced beverages. After the awards show\, stick around to watch an additional feature film on the house!<br style="box-sizing: border-box\;" />\n<br style="box-sizing: border-box\;" />\nIf you have not yet purchased a ticket for this event you can do so by&nbsp\;before August 13.&nbsp\;Individuals with an existing reservation from the originally scheduled ceremony will receive an email and must reply back to finalize their reservation for August 20th.</span></span></span><br />\n&nbsp\;</div>\n\n<p><span style="font-size:16px\;"><span style="font-family:times new roman\;"><span style="color:#000000\;"><strong>For more information\, click </strong></span><strong><a href="https://www.dcrcoc.org/40Under40" target="_blank"><span style="color:#0000FF\;">HERE</span></a></strong><span style="color:#000000\;"><strong>.<br />\n<br />\nGates Open: 6 PM\, Showtime: 8:30 PM\, Movie to Follow.<br />\n<br />\nSpecial Guests: Emcees - Annie &amp\; Ryan of Q92<br />\n<br />\nVideo Production by: Forge Media</strong></span></span></span><br />\n<br />\n<span style="background-color: transparent\; color: rgb(51\, 51\, 51)\; font-family: sans-serif\,Arial\,Verdana\,&amp\;quot\;Trebuchet MS&amp\;quot\;\; font-size: 16px\; font-style: normal\; font-variant: normal\; font-weight: 400\; letter-spacing: normal\; orphans: 2\; text-align: center\; text-decoration: none\; text-indent: 0px\; text-transform: none\; -webkit-text-stroke-width: 0px\; white-space: normal\; word-spacing: 0px\;"><span style="font-family: tahoma\;"><span style="color: rgb(0\, 0\, 0)\;"><strong><u>Sponsors:</u><br />\n<br />\nEvent Sponsors:</strong></span></span></span><br />\n<span style="background-color: transparent\; font-size: 16px\; font-style: normal\; font-variant: normal\; font-weight: 400\; letter-spacing: normal\; orphans: 2\; text-align: center\; text-decoration: none\; text-indent: 0px\; text-transform: none\; -webkit-text-stroke-width: 0px\; white-space: normal\; word-spacing: 0px\;"><span style="font-family: tahoma\;"><a href="http://www.nssupply.com" target="_blank"><span style="color:#0000FF\;">N &amp\; S Supply LLC</span></a><br />\n<a href="http://www.rhinebeckbank.com" target="_blank"><span style="color:#0000FF\;">Rhinebeck Bank</span></a></span></span><br />\n<br />\n<span style="background-color: transparent\; color: rgb(51\, 51\, 51)\; font-family: sans-serif\,Arial\,Verdana\,&amp\;quot\;Trebuchet MS&amp\;quot\;\; font-size: 16px\; font-style: normal\; font-variant: normal\; font-weight: 400\; letter-spacing: normal\; orphans: 2\; text-align: center\; text-decoration: none\; text-indent: 0px\; text-transform: none\; -webkit-text-stroke-width: 0px\; white-space: normal\; word-spacing: 0px\;"><span style="font-family: tahoma\;"><span style="color: rgb(0\, 0\, 0)\;"><strong>Mover &amp\; Shaker Sponsors:</strong></span></span></span><br />\n<span style="background-color: transparent\; font-size: 16px\; font-style: normal\; font-variant: normal\; font-weight: 400\; letter-spacing: normal\; orphans: 2\; text-align: center\; text-decoration: none\; text-indent: 0px\; text-transform: none\; -webkit-text-stroke-width: 0px\; white-space: normal\; word-spacing: 0px\;"><span style="font-family: tahoma\;"><a href="http://www.animalfarmfoundation.org" target="_blank"><span style="color:#0000FF\;">Animal Farm Foundation</span></a><br />\n<a href="http://www.caremountmedical.com/locations" target="_blank"><span style="color:#0000FF\;">CareMount Medical</span></a><br />\n<a href="http://www.cenhud.com" target="_blank"><span style="color:#0000FF\;">Central Hudson Gas &amp\; Electric Corporation</span></a><br />\n<a href="http://www.jgspc.com" target="_blank"><span style="color:#0000FF\;">JGS\, CPA</span></a><br />\n<a href="http://www.mtb.com" target="_blank"><span style="color:#0000FF\;">M &amp\; T Bank</span></a><br />\n<a href="http://www.mbwise.com" target="_blank"><span style="color:#0000FF\;">Mackey Butts &amp\; Wise\, LLP</span></a><br />\n<a href="http://www.marshallsterling.com" target="_blank"><span style="color:#0000FF\;">Marshall &amp\; Sterling Insurance</span></a><br />\n<a href="http://www.msmc.edu" target="_blank"><span style="color:#0000FF\;">Mount Saint Mary College</span></a></span></span><br />\n<span style="background-color: transparent\; font-size: 16px\; font-style: normal\; font-variant: normal\; font-weight: 400\; letter-spacing: normal\; orphans: 2\; text-align: center\; text-decoration: none\; text-indent: 0px\; text-transform: none\; -webkit-text-stroke-width: 0px\; white-space: normal\; word-spacing: 0px\;"><span style="font-family: tahoma\;"><a href="http://www.rbtcpas.com/" target="_blank"><span style="color:#0000FF\;">RBT CPAs\, LLP</span></a><br />\n<a href="http://www.rkinsurance.com" target="_blank"><span style="color:#0000FF\;">Rose &amp\; Kiernan Insurance</span></a><br />\n<a href="https://www.mahopacbank.com/" target="_blank"><span style="color:#0000FF\;">Tompkins Mahopac Bank</span></a></span></span><br />\n<br />\n<span style="background-color: transparent\; color: rgb(51\, 51\, 51)\; font-family: sans-serif\,Arial\,Verdana\,&amp\;quot\;Trebuchet MS&amp\;quot\;\; font-size: 16px\; font-style: normal\; font-variant: normal\; font-weight: 400\; letter-spacing: normal\; orphans: 2\; text-align: center\; text-decoration: none\; text-indent: 0px\; text-transform: none\; -webkit-text-stroke-width: 0px\; white-space: normal\; word-spacing: 0px\;"><span style="font-family: tahoma\;"><span style="color: rgb(0\, 0\, 0)\;"><strong>Popcorn Sponsor:</strong></span></span></span><br />\n<span style="background-color: transparent\; font-size: 16px\; font-style: normal\; font-variant: normal\; font-weight: 400\; letter-spacing: normal\; orphans: 2\; text-align: center\; text-decoration: none\; text-indent: 0px\; text-transform: none\; -webkit-text-stroke-width: 0px\; white-space: normal\; word-spacing: 0px\;"><span style="font-family: tahoma\;"><a href="http://www.mhvfcu.com" target="_blank"><span style="color:#0000FF\;">Mid-Hudson Valley Federal Credit Union</span></a></span></span><br />\n<br />\n<span style="background-color: transparent\; color: rgb(51\, 51\, 51)\; font-family: sans-serif\,Arial\,Verdana\,&amp\;quot\;Trebuchet MS&amp\;quot\;\; font-size: 16px\; font-style: normal\; font-variant: normal\; font-weight: 400\; letter-spacing: normal\; orphans: 2\; text-align: center\; text-decoration: none\; text-indent: 0px\; text-transform: none\; -webkit-text-stroke-width: 0px\; white-space: normal\; word-spacing: 0px\;"><span style="font-family: tahoma\;"><span style="color: rgb(0\, 0\, 0)\;"><strong>Feature Film Sponsor:</strong></span></span></span><br />\n<span style="background-color: transparent\; font-size: 16px\; font-style: normal\; font-variant: normal\; font-weight: 400\; letter-spacing: normal\; orphans: 2\; text-align: center\; text-decoration: none\; text-indent: 0px\; text-transform: none\; -webkit-text-stroke-width: 0px\; white-space: normal\; word-spacing: 0px\;"><span style="font-family: tahoma\;"><a href="https://getwithtipsy.com/" target="_blank"><span style="color:#0000FF\;">Tipsy Social</span></a></span></span><br />\n<br />\n<span style="background-color: transparent\; color: rgb(51\, 51\, 51)\; font-family: sans-serif\,Arial\,Verdana\,&amp\;quot\;Trebuchet MS&amp\;quot\;\; font-size: 16px\; font-style: normal\; font-variant: normal\; font-weight: 400\; letter-spacing: normal\; orphans: 2\; text-align: center\; text-decoration: none\; text-indent: 0px\; text-transform: none\; -webkit-text-stroke-width: 0px\; white-space: normal\; word-spacing: 0px\;"><span style="font-family: tahoma\;"><span style="color: rgb(0\, 0\, 0)\;"><strong>Interview Sponsor:</strong></span></span></span><br />\n<span style="background-color: transparent\; font-size: 16px\; font-style: normal\; font-variant: normal\; font-weight: 400\; letter-spacing: normal\; orphans: 2\; text-align: center\; text-decoration: none\; text-indent: 0px\; text-transform: none\; -webkit-text-stroke-width: 0px\; white-space: normal\; word-spacing: 0px\;"><span style="font-family: tahoma\;"><a href="http://www.prwithimpact.com" target="_blank"><span style="color:#0000FF\;">Impact PR &amp\; Communications</span></a></span></span><br />\n<br />\n<span style="background-color: transparent\; color: rgb(51\, 51\, 51)\; font-family: sans-serif\,Arial\,Verdana\,&amp\;quot\;Trebuchet MS&amp\;quot\;\; font-size: 16px\; font-style: normal\; font-variant: normal\; font-weight: 400\; letter-spacing: normal\; orphans: 2\; text-align: center\; text-decoration: none\; text-indent: 0px\; text-transform: none\; -webkit-text-stroke-width: 0px\; white-space: normal\; word-spacing: 0px\;"><span style="font-family: tahoma\;"><span style="color: rgb(0\, 0\, 0)\;"><strong>Profile Sponsor:</strong></span></span></span><br />\n<a href="https://www.hudsonbuickgmc.com/" target="_blank"><span style="color:#0000CD\;"><span style="background-color: transparent\; font-size: 16px\; font-style: normal\; font-variant: normal\; font-weight: 400\; letter-spacing: normal\; orphans: 2\; text-align: center\; text-decoration: none\; text-indent: 0px\; text-transform: none\; -webkit-text-stroke-width: 0px\; white-space: normal\; word-spacing: 0px\;"><span style="font-family: tahoma\;">Hudson Cadillac Buick GMC</span></span></span></a></p>\n\n<p><span style="background-color: transparent\; color: rgb(51\, 51\, 51)\; font-family: sans-serif\,Arial\,Verdana\,&amp\;quot\;Trebuchet MS&amp\;quot\;\; font-size: 16px\; font-style: normal\; font-variant: normal\; font-weight: 400\; letter-spacing: normal\; orphans: 2\; text-align: center\; text-decoration: none\; text-indent: 0px\; text-transform: none\; -webkit-text-stroke-width: 0px\; white-space: normal\; word-spacing: 0px\;"><span style="font-family: tahoma\;"><span style="color: rgb(0\, 0\, 0)\;"><strong>Award Sponsor:</strong></span></span></span><br />\n<span style="background-color: transparent\; font-size: 16px\; font-style: normal\; font-variant: normal\; font-weight: 400\; letter-spacing: normal\; orphans: 2\; text-align: center\; text-decoration: none\; text-indent: 0px\; text-transform: none\; -webkit-text-stroke-width: 0px\; white-space: normal\; word-spacing: 0px\;"><span style="font-family: tahoma\;"><a href="http://www.desjewelers.com" target="_blank"><span style="color:#0000FF\;">De&#39\;S Jewelers</span></a></span></span><br />\n<br />\n<strong style="color: rgb(0\, 0\, 0)\; font-family: tahoma\; font-size: 16px\; text-align: center\;">Beverage Sponsor:</strong><br />\n<a href="http://www.sloopbrewing.com/shop/" target="_blank"><span style="color:#0000FF\;"><span style="font-size:16px\;"><span style="font-family:tahoma\;">Sloop Brewing Co.</span></span></span></a><br />\n&nbsp\;</p>\n
LOCATION:Hyde Park Drive-In Theatre 4114 Albany Post Road
UID:e.2770.10483332
SEQUENCE:3
DTSTAMP:20260422T003517Z
URL:http://dutchesscountyregional.smartcms.site/events/details/forty-under-40-mover-shaker-awards-10483332
END:VEVENT

END:VCALENDAR
