BEGIN:VCALENDAR
VERSION:2.0
PRODID:-//ChamberMaster//Event Calendar 2.0//EN
METHOD:PUBLISH
X-PUBLISHED-TTL:P3D
REFRESH-INTERVAL:P3D
CALSCALE:GREGORIAN
BEGIN:VEVENT
DTSTART:20200402T210000Z
DTEND:20200403T003000Z
X-MICROSOFT-CDO-ALLDAYEVENT:FALSE
SUMMARY:Forty Under 40 Mover & Shaker Awards - POSTPONED***
DESCRIPTION:Guests with paid registrations for postponed events will be automatically registered for the re-scheduled event\, and notified of the new date and time\, along with specific instructions regarding refunds.\n\n\n\n\n\nFor Reservations\n\nPlease Call (845) 454-1700 Ext. 1000.\n\n\n\nThe Dutchess County Regional Chamber of Commerce recognizes a talented and diverse group of young professionals in the Hudson Valley as the top Forty Under 40. Bestowed annually to 40 people under the age of 40 who have shown a strong commitment to the Hudson Valley\, the Shaker Awards honor the next generation of leaders in our region.\n\n\n\nSponsors:\n\n\n\nEvent Sponsors:\n\nN & S Supply LLC\n\nRhinebeck Bank\n\n\n\nMover & Shaker Sponsors:\n\nAnimal Farm Foundation\n\nCareMount Medical\n\nCentral Hudson Gas & Electric Corporation\n\nJGS\, CPA\n\nM & T Bank\n\nMackey Butts & Wise\, LLP\n\nMarshall & Sterling Insurance\n\nMount Saint Mary College\n\nPVE\, LLC\n\nRBT CPAs\, LLP\n\nRose & Kiernan Insurance\n\nTompkins Mahopac Bank\n\n\n\nReception Sponsor:\n\nMid-Hudson Valley Federal Credit Union\n\n\n\nRed Carpet Sponsor:\n\nTipsy Social\n\n\n\nInterview Sponsor:\n\nImpact PR & Communications\n\n\n\nProfile Sponsor:\n\nHudson Buick-Cadillac-GMC\n\nAward Sponsor:\n\nDe'S Jewelers
X-ALT-DESC;FMTTYPE=text/html:<p><br />\n<span style="background:yellow\;"><span style="color:#333333\;"><span style="font-family:tahoma\,sans-serif\;"><span style="font-size:16.0pt\;">Guests with paid registrations for postponed events will be automatically registered for the re-scheduled event\, and notified of the new date and time\, along with specific instructions regarding refunds.</span></span></span></span><br />\n<br />\n<br />\n<span style="background-color: transparent\; box-sizing: border-box\; color: rgb(51\, 51\, 51)\; font-family: tahoma\; font-size: 16px\; font-style: normal\; font-variant: normal\; font-weight: 400\; letter-spacing: normal\; orphans: 2\; text-align: left\; text-decoration: none\; text-indent: 0px\; text-transform: none\; -webkit-text-stroke-width: 0px\; white-space: normal\; word-spacing: 0px\;"><span style="box-sizing: border-box\; color: rgb(255\, 0\, 0)\;"><strong style="box-sizing: border-box\; font-weight: 700\;">For Reservations<br style="box-sizing: border-box\;" />\nPlease Call&nbsp\;(845) 454-1700 Ext. 1000.</strong></span></span><br style="background-color: transparent\; box-sizing: border-box\; color: rgb(51\, 51\, 51)\; font-family: tahoma\; font-size: 14px\; font-style: normal\; font-variant: normal\; font-weight: 400\; letter-spacing: normal\; orphans: 2\; text-align: left\; text-decoration: none\; text-indent: 0px\; text-transform: none\; -webkit-text-stroke-width: 0px\; white-space: normal\; word-spacing: 0px\;" />\n<br style="background-color: transparent\; box-sizing: border-box\; color: rgb(51\, 51\, 51)\; font-family: tahoma\; font-size: 14px\; font-style: normal\; font-variant: normal\; font-weight: 400\; letter-spacing: normal\; orphans: 2\; text-align: left\; text-decoration: none\; text-indent: 0px\; text-transform: none\; -webkit-text-stroke-width: 0px\; white-space: normal\; word-spacing: 0px\;" />\n<span style="background-color: transparent\; box-sizing: border-box\; color: rgb(51\, 51\, 51)\; font-family: tahoma\; font-size: 16px\; font-style: normal\; font-variant: normal\; font-weight: 400\; letter-spacing: normal\; orphans: 2\; text-align: left\; text-decoration: none\; text-indent: 0px\; text-transform: none\; -webkit-text-stroke-width: 0px\; white-space: normal\; word-spacing: 0px\;">The Dutchess County Regional Chamber of Commerce recognizes a talented and diverse group of young professionals in the Hudson Valley as the top Forty Under 40.&nbsp\;Bestowed annually to 40 people under the age of 40 who have shown a strong commitment to the Hudson Valley\, the Shaker Awards honor the next generation of leaders in our region.</span><br />\n<br />\n<span style="background-color: transparent\; color: rgb(51\, 51\, 51)\; font-family: sans-serif\,Arial\,Verdana\,&amp\;quot\;Trebuchet MS&amp\;quot\;\; font-size: 16px\; font-style: normal\; font-variant: normal\; font-weight: 400\; letter-spacing: normal\; orphans: 2\; text-align: center\; text-decoration: none\; text-indent: 0px\; text-transform: none\; -webkit-text-stroke-width: 0px\; white-space: normal\; word-spacing: 0px\;"><span style="font-family: tahoma\;"><span style="color: rgb(0\, 0\, 0)\;"><strong><u>Sponsors:</u><br />\n<br />\nEvent Sponsors:</strong><br />\n<a href="http://www.nssupply.com">N &amp\; S Supply LLC</a><br />\n<a href="http://www.rhinebeckbank.com">Rhinebeck Bank</a><br />\n<br />\n<strong>Mover &amp\; Shaker Sponsors:</strong><br />\n<a href="http://www.animalfarmfoundation.org">Animal Farm Foundation</a><br />\n<a href="http://www.caremountmedical.com/locations" target="_blank">CareMount Medical</a><br />\n<a href="http://www.cenhud.com">Central Hudson Gas &amp\; Electric Corporation</a><br />\n<a href="http://www.jgspc.com">JGS\, CPA</a><br />\n<a href="http://www.mtb.com">M &amp\; T Bank</a><br />\n<a href="http://www.mbwise.com">Mackey Butts &amp\; Wise\, LLP</a><br />\n<a href="http://www.marshallsterling.com">Marshall &amp\; Sterling Insurance</a><br />\n<a href="http://www.msmc.edu">Mount Saint Mary College</a><br />\n<a href="http://www.pve-llc.com">PVE\, LLC</a></span></span></span><br />\n<span style="background-color: transparent\; color: rgb(51\, 51\, 51)\; font-family: sans-serif\,Arial\,Verdana\,&amp\;quot\;Trebuchet MS&amp\;quot\;\; font-size: 16px\; font-style: normal\; font-variant: normal\; font-weight: 400\; letter-spacing: normal\; orphans: 2\; text-align: center\; text-decoration: none\; text-indent: 0px\; text-transform: none\; -webkit-text-stroke-width: 0px\; white-space: normal\; word-spacing: 0px\;"><span style="font-family: tahoma\;"><span style="color: rgb(0\, 0\, 0)\;"><a href="http://www.rbtcpas.com/">RBT CPAs\, LLP</a><br />\n<a href="http://www.rkinsurance.com">Rose &amp\; Kiernan Insurance</a><br />\n<a href="https://www.mahopacbank.com/">Tompkins Mahopac Bank</a><br />\n<br />\n<strong>Reception Sponsor:</strong><br />\n<a href="http://www.mhvfcu.com">Mid-Hudson Valley Federal Credit Union</a><br />\n<br />\n<strong>Red Carpet Sponsor:</strong><br />\n<a href="https://getwithtipsy.com/">Tipsy Social</a><br />\n<br />\n<strong>Interview Sponsor:</strong><br />\n<a href="http://www.prwithimpact.com">Impact PR &amp\; Communications</a><br />\n<br />\n<strong>Profile Sponsor:</strong><br />\n<a href="http://www.hudsongm.com">Hudson Buick-Cadillac-GMC</a></span></span></span></p>\n\n<p><span style="background-color: transparent\; color: rgb(51\, 51\, 51)\; font-family: sans-serif\,Arial\,Verdana\,&amp\;quot\;Trebuchet MS&amp\;quot\;\; font-size: 16px\; font-style: normal\; font-variant: normal\; font-weight: 400\; letter-spacing: normal\; orphans: 2\; text-align: center\; text-decoration: none\; text-indent: 0px\; text-transform: none\; -webkit-text-stroke-width: 0px\; white-space: normal\; word-spacing: 0px\;"><span style="font-family: tahoma\;"><span style="color: rgb(0\, 0\, 0)\;"><strong>Award Sponsor:</strong><br />\n<a href="http://www.desjewelers.com">De&#39\;S Jewelers</a></span></span></span></p>\n
LOCATION:Cocktail Reception at Poughkeepsie Grand Hotel & Conference Center 40 Civic Center Plaza Poughkeepsie\, NY 12601 Awards Ceremony at Changepoint Theater 260 Mill Street Poughkeepsie\, NY 12601
UID:e.2770.10481437
SEQUENCE:3
DTSTAMP:20260422T072313Z
URL:http://dutchesscountyregional.smartcms.site/events/details/forty-under-40-mover-shaker-awards-postponed-10481437
END:VEVENT

END:VCALENDAR
