BEGIN:VCALENDAR
VERSION:2.0
PRODID:-//ChamberMaster//Event Calendar 2.0//EN
METHOD:PUBLISH
X-PUBLISHED-TTL:P3D
REFRESH-INTERVAL:P3D
CALSCALE:GREGORIAN
BEGIN:VEVENT
DTSTART:20190804T170000Z
DTEND:20190804T190000Z
X-MICROSOFT-CDO-ALLDAYEVENT:FALSE
SUMMARY:Fourth Annual Festival of Fine Italian Cars\, Bikes & Food
DESCRIPTION:Join us for the fourth annual Festival of Fine Italian Cars\, Bikes and Food at the Poughkeepsie Italian Center on Sunday\, August 4\, 2019.  This drive\, show and dine event will be open to all makes of Italian cars and motorcycles\, and those who appreciate Italian Culture.  There will be a drive to the Italian Center for Italian cars and motorcycles beginning at the Dutchess Mall in Fishkill\, NY at 10:30 AM.  Car/bike display will be at 12 noon.  Registration fee for the cars and bikes is $15 each to cover the cost of awards   payable to The Italian Center\; mail to:  Mark Searle\, 18 Hartstone Drive\, Poughkeepsie\, NY 12603.\n\nThe Italian Center will be offering an Italian Buffett from 1-3 PM for $35 per person\, reservations are required for the buffet.  Spectators can view the machines in the Italian Center's lot and enjoy the buffet as well.  A program on Italian culture will be presented during the buffet.  This event is open to all makes of Italian automobiles and motorcycles including\, but not limited to - Ferrari\, Maserati\, Alfa Romeo\, Fiat\, Lancia\, Lamborghini\, Ducati\, Moto Guzzi\, Vespa\, Abarth\, and OSCA.  A People's Choice prize will be awarded during the buffet.  \n\nReservations are required for the buffet   this is a rain or shine event\n\nPre-registration and payment are required for show cars/bikes\n\nFor more information and reservations\, please contact HVCFERRARI@AOL.COM or call 914-456-2823 \n\nItalian Center   227 Mill street   Poughkeepsie\, NY 12601\n\nSponsors:              Ferrari Club of America   Empire State Region           De's Jewelers\, Poughkeepsie\, NY                                                    Wide World Ferrari/Maserati\, Spring Valley\, NY        Poughkeepsie Italian Center              \n\nPirandello Institute\, Poughkeepsie\, NY           Hudson Valley Motorcycles\, Ossining\, NY
X-ALT-DESC;FMTTYPE=text/html:<span style="font-size:10pt\;"><span style="font-family:century gothic\,sans-serif\;">Join us for the fourth annual Festival of Fine Italian Cars\, Bikes and Food at the Poughkeepsie Italian Center on Sunday\, August 4\, 2019.&nbsp\; This drive\, show and dine event will be open to all makes of Italian cars and motorcycles\, and those who appreciate Italian Culture.&nbsp\; There will be a drive to the Italian Center for Italian cars and motorcycles beginning at the Dutchess Mall in Fishkill\, NY at 10:30 AM.&nbsp\; Car/bike display will be at 12 noon.&nbsp\; Registration fee for the cars and bikes is $15 each to cover the cost of awards &ndash\; payable to <em>The Italian Center</em>\; mail to:&nbsp\; Mark Searle\, 18 Hartstone Drive\, Poughkeepsie\, NY 12603.</span></span><br />\n<span style="font-size:10pt\;"><span style="font-family:century gothic\,sans-serif\;">The Italian Center will be offering an Italian Buffett from 1-3 PM for $35 per person\, reservations are required for the buffet.&nbsp\; Spectators can view the machines in the Italian Center&rsquo\;s lot and enjoy the buffet as well.&nbsp\; A program on Italian culture will be presented during the buffet.&nbsp\; This event is open to all makes of Italian automobiles and motorcycles including\, but not limited to - Ferrari\, Maserati\, Alfa Romeo\, Fiat\, Lancia\, Lamborghini\, Ducati\, Moto Guzzi\, Vespa\, Abarth\, and OSCA.&nbsp\; A People&rsquo\;s Choice prize will be awarded during the buffet.&nbsp\; </span></span><br />\n<span style="font-size:12pt\;"><span style="font-family:calibri\;">Reservations are required for the buffet &ndash\; this is a rain or shine event</span></span><br />\n<span style="font-size:12pt\;"><span style="font-family:calibri\;">Pre-registration and payment are required for show cars/bikes</span></span><br />\n<span style="font-size:medium\;"><span style="font-family:calibri\;"><em>For more information and reservations\, please contact </em><a><em>HVCFERRARI@AOL.COM</em></a><em><u><span style="text-decoration:none\;"><span style="color:black\;"> or call 914-456-2823</span></span> </u></em></span></span><br />\n<span style="font-size:16pt\;"><span style="font-family:times new roman\,serif\;">Italian Center &ndash\; 227 Mill street &ndash\; Poughkeepsie\, NY 12601</span></span><br />\n<span style="font-size:10pt\;"><span style="font-family:times new roman\,serif\;">Sponsors:&nbsp\;&nbsp\;&nbsp\;&nbsp\;&nbsp\;&nbsp\;&nbsp\;&nbsp\;&nbsp\;&nbsp\;&nbsp\;&nbsp\;&nbsp\; Ferrari Club of America &ndash\; Empire State Region&nbsp\;&nbsp\;&nbsp\;&nbsp\;&nbsp\;&nbsp\;&nbsp\;&nbsp\;&nbsp\;&nbsp\; De&rsquo\;s Jewelers\, Poughkeepsie\, NY&nbsp\;&nbsp\;&nbsp\;&nbsp\;&nbsp\;&nbsp\;&nbsp\;&nbsp\;&nbsp\;&nbsp\;&nbsp\;&nbsp\;&nbsp\;&nbsp\;&nbsp\;&nbsp\;&nbsp\;&nbsp\;&nbsp\;&nbsp\;&nbsp\;&nbsp\;&nbsp\;&nbsp\;&nbsp\;&nbsp\;&nbsp\;&nbsp\;&nbsp\;&nbsp\;&nbsp\;&nbsp\;&nbsp\;&nbsp\;&nbsp\; &nbsp\;&nbsp\;&nbsp\;&nbsp\;&nbsp\;&nbsp\;&nbsp\;&nbsp\;&nbsp\;&nbsp\;&nbsp\;&nbsp\;&nbsp\;&nbsp\;&nbsp\; Wide World Ferrari/Maserati\, Spring Valley\, NY&nbsp\;&nbsp\;&nbsp\;&nbsp\;&nbsp\;&nbsp\;&nbsp\; Poughkeepsie Italian Center&nbsp\;&nbsp\;&nbsp\;&nbsp\;&nbsp\;&nbsp\;&nbsp\;&nbsp\;&nbsp\;&nbsp\;&nbsp\;&nbsp\;&nbsp\; </span></span><br />\n<span style="font-size:10pt\;"><span style="font-family:times new roman\,serif\;">Pirandello Institute\, Poughkeepsie\, NY&nbsp\;&nbsp\;&nbsp\;&nbsp\;&nbsp\;&nbsp\;&nbsp\;&nbsp\;&nbsp\;&nbsp\; Hudson Valley Motorcycles\, Ossining\, NY</span></span>
LOCATION:Italian Center 227 Mill street Poughkeepsie\, NY 12601
UID:e.2770.10480993
SEQUENCE:3
DTSTAMP:20260422T223625Z
URL:http://dutchesscountyregional.smartcms.site/events/details/fourth-annual-festival-of-fine-italian-cars-bikes-food-10480993
END:VEVENT

END:VCALENDAR
