BEGIN:VCALENDAR
VERSION:2.0
PRODID:-//ChamberMaster//Event Calendar 2.0//EN
METHOD:PUBLISH
X-PUBLISHED-TTL:P3D
REFRESH-INTERVAL:P3D
CALSCALE:GREGORIAN
BEGIN:VEVENT
DTSTART:20181117T160000Z
DTEND:20181117T200000Z
X-MICROSOFT-CDO-ALLDAYEVENT:FALSE
SUMMARY:Free Community Figure Drawing at Barrett Art Center
DESCRIPTION:Free Community Figure Drawing- Saturday\, November 17th 11-3pm \n\n\n\nCome spend the day figure drawing from a live\, professional model. All levels of experience are welcome. Paper and materials will be provided.
X-ALT-DESC;FMTTYPE=text/html:Free Community Figure Drawing- Saturday\, November 17th 11-3pm&nbsp\;<br />\n<br />\nCome spend the day figure drawing from a live\, professional model. All levels of experience are welcome. Paper and materials will be provided.&nbsp\;
LOCATION:Barrett Art Center- 55 Noxon Street\, Poughkeepsie\, NY 12601
UID:e.2770.10479862
SEQUENCE:3
DTSTAMP:20260425T160516Z
URL:http://dutchesscountyregional.smartcms.site/events/details/free-community-figure-drawing-at-barrett-art-center-10479862
END:VEVENT

END:VCALENDAR
