BEGIN:VCALENDAR
VERSION:2.0
PRODID:-//ChamberMaster//Event Calendar 2.0//EN
METHOD:PUBLISH
X-PUBLISHED-TTL:P3D
REFRESH-INTERVAL:P3D
CALSCALE:GREGORIAN
BEGIN:VEVENT
DTSTART:20201130T200000Z
DTEND:20201130T230000Z
X-MICROSOFT-CDO-ALLDAYEVENT:FALSE
SUMMARY:Free Flu Shot Clinic in Poughkeepsie
DESCRIPTION:Regardless of insurance\, on Monday\, November 30\, anyone can receive a free flu shot at Boardman Road Branch Library - 141 Boardman Road\; Poughkeepsie\, NY 12603 - from 3:00 p.m. through 6:00 p.m. Hosted by MVP Health Care. A flu vaccine protects against the flu but also potential serious complications that come with it\, which is especially important this year with a global pandemic impacting our everyday lives. That is why MVP Health Care is hosting free flu shot clinics throughout the Mid-Hudson Region to support its community during this time. Many doctors say that having the flu and COVID-19 at the same time could be very dangerous\, even for healthy adults. That's why this flu season\, the best ways to stay healthy are to wear a mask\, practice social distancing\, and get a flu shot. You do not need to make a reservation\, but you will be asked to register upon arrival.
X-ALT-DESC;FMTTYPE=text/html:Regardless of insurance\, on Monday\, November 30\, anyone can receive a free flu shot at Boardman Road Branch Library - 141 Boardman Road\; Poughkeepsie\, NY 12603 - from 3:00 p.m. through 6:00 p.m. Hosted by MVP Health Care. A flu vaccine protects against the flu but also potential serious complications that come with it\, which is especially important this year with a global pandemic impacting our everyday lives. That is why MVP Health Care is hosting free flu shot clinics throughout the Mid-Hudson Region to support its community during this time. Many doctors say that having the flu and COVID-19 at the same time could be very dangerous\, even for healthy adults. That&rsquo\;s why this flu season\, the best ways to stay healthy are to wear a mask\, practice social distancing\, and get a flu shot. You do not need to make a reservation\, but you will be asked to register upon arrival.
LOCATION:Boardman Road Branch Library 141 Boardman Road Poughkeepsie\, NY 12603
UID:e.2770.10484791
SEQUENCE:3
DTSTAMP:20260421T193411Z
URL:http://dutchesscountyregional.smartcms.site/events/details/free-flu-shot-clinic-in-poughkeepsie-11-30-2020-10484791
END:VEVENT

END:VCALENDAR
