BEGIN:VCALENDAR
VERSION:2.0
PRODID:-//ChamberMaster//Event Calendar 2.0//EN
METHOD:PUBLISH
X-PUBLISHED-TTL:P3D
REFRESH-INTERVAL:P3D
CALSCALE:GREGORIAN
BEGIN:VEVENT
DTSTART:20190510T223000Z
DTEND:20190510T233000Z
X-MICROSOFT-CDO-ALLDAYEVENT:FALSE
SUMMARY:FREE PTSD Acupuncture Clinic at Pellegrino Healing Center
DESCRIPTION:Join us Friday\, May 10th at 6:30PM for a FREE PTSD Acupuncture Clinic! This 1-hour session at Pellegrino Healing Center will take place in a quiet group setting and will include a simple acupuncture treatment to reduce stress\, anxiety\, and agitation. The NADA protocol is designed to uplift mood\, improve sleep\, and provide relief for emotional trauma. Please call/text us at (845) 233-5672 TODAY to sign up! Signing up in advance will assure your spot since space is limited. \n\n\n\nPellegrino Healing Center\n\n4307 Albany Post Road\, Hyde Park\, NY 12538\n\nheal@pellegrinohealingcenter.com \n\nCall or Text: (845) 233-5672
X-ALT-DESC;FMTTYPE=text/html:<h2 style="font-style:italic\;"><span style="color:#000000"><span style="font-family:times new roman\,serif"><span style="font-size:14.0pt">Join us Friday\, May 10th at 6:30PM for a FREE PTSD Acupuncture Clinic! This 1-hour session at Pellegrino Healing Center will take place in a quiet group setting and will include a simple acupuncture treatment to reduce stress\, anxiety\, and agitation. The NADA protocol is designed to uplift mood\, improve sleep\, and provide relief for emotional trauma. Please call/text us at (845) 233-5672 TODAY to sign up! Signing up in advance will assure your spot since space is limited.&nbsp\;</span></span><br />\n<br />\n<strong>Pellegrino Healing Center</strong><br />\n4307 Albany Post Road\, Hyde Park\, NY 12538<br />\nheal@pellegrinohealingcenter.com&nbsp\;<br />\n<span style="font-family:helvetica\,sans-serif">Call or Text: (845) 233-5672</span></span></h2>\n
LOCATION:Pellegrino Healing Center 4307 Albany Post Road\, Hyde Park\, NY 12538
UID:e.2770.10480731
SEQUENCE:3
DTSTAMP:20260423T040308Z
URL:http://dutchesscountyregional.smartcms.site/events/details/free-ptsd-acupuncture-clinic-at-pellegrino-healing-center-10480731
END:VEVENT

END:VCALENDAR
