BEGIN:VCALENDAR
VERSION:2.0
PRODID:-//ChamberMaster//Event Calendar 2.0//EN
METHOD:PUBLISH
X-PUBLISHED-TTL:P3D
REFRESH-INTERVAL:P3D
CALSCALE:GREGORIAN
BEGIN:VEVENT
DTSTART:20190712T223000Z
DTEND:20190712T233000Z
X-MICROSOFT-CDO-ALLDAYEVENT:FALSE
SUMMARY:FREE PTSD Acupuncture Clinic at Pellegrino Healing Center
DESCRIPTION:Pellegrino Healing Center will be offering a FREE PTSD Acupuncture Clinic on Friday\, July 12 from 6:30-7:30PM. This 1-hour session will take place in a quiet group setting and will include a simple acupuncture treatment to reduce stress\, anxiety\, and agitation. The NADA protocol is designed to uplift mood\, improve sleep\, and provide relief for emotional trauma. Call/Text (845) 233-5672 to reserve your spot today!
X-ALT-DESC;FMTTYPE=text/html:<span style="color:rgb(0\, 0\, 0)\; font-family:times\; font-size:medium">Pellegrino Healing Center will be offering a FREE PTSD Acupuncture Clinic on Friday\, July 12</span><span style="color:rgb(0\, 0\, 0)\; font-family:times\; font-size:medium">&nbsp\;from 6:30-7:</span><span style="background-color:transparent\; color:rgb(0\, 0\, 0)\; font-family:times\; font-size:medium">30PM</span><span style="color:rgb(0\, 0\, 0)\; font-family:times\; font-size:medium">. This 1-hour session will take place in a quiet group setting and will include a simple acupuncture treatment to reduce stress\, anxiety\, and agitation. The NADA protocol is designed to uplift mood\, improve sleep\, and provide relief for emotional trauma</span><span style="color:rgb(0\, 0\, 0)\; font-family:times\; font-size:medium">. Call/Text (845) 233-5672 to reserve your spot today!</span>
LOCATION:Pellegrino Healing Center 4307 Albany Post Rd Hyde Park NY 12538
UID:e.2770.10480951
SEQUENCE:3
DTSTAMP:20260423T002135Z
URL:http://dutchesscountyregional.smartcms.site/events/details/free-ptsd-clinic-at-pellegrino-healing-center-10480951
END:VEVENT

END:VCALENDAR
