BEGIN:VCALENDAR
VERSION:2.0
PRODID:-//ChamberMaster//Event Calendar 2.0//EN
METHOD:PUBLISH
X-PUBLISHED-TTL:P3D
REFRESH-INTERVAL:P3D
CALSCALE:GREGORIAN
BEGIN:VEVENT
DTSTART:20191016T210000Z
DTEND:20191016T230000Z
X-MICROSOFT-CDO-ALLDAYEVENT:FALSE
SUMMARY:THE EYES HAVE IT! Free Public Seminar on Cosmetic Eye Plastic Surgery
DESCRIPTION:THE EYES HAVE IT!\n\nFree Public Seminar on\n\nCosmetic Eye Plastic Surgery\n\n\nPoughkeepsie\, NY   On Wednesday\, October 16\, 2019\, Facial Plastic Reconstructive and Laser Surgery with Oasis Medispa will offer a free seminar on the latest options for eye rejuvenation. This will include both surgical and nonsurgical procedures\, many of which require virtually no down-time and provide immediate gratification.\n\n\n\nThe seminar will be hosted by practice owner\, double board certified and fellowship trained local Facial Plastic Surgeon Manoj T. Abraham\, M.D.\, F.A.C.S.\, a featured Hudson Valley Magazine Top Doctor\, and practice member Manhattan oculofacial plastic surgeon Yogita Kashyap\, M.D.\, who specializes exclusively in cosmetic and reconstructive procedures of the eyes\, eyelids\, and surrounding structures.\n\n\n\nPresented as an open forum\, the seminar will encourage members of the audience to ask questions and engage in dialogue with the experts to learn about their various options. Patients who have already had facial rejuvenation procedures will be on hand to provide a personal first-hand account of their experience and results. The hosts will be joined by the practice's world class team of aestheticians\, massage therapists\, physician assistant Ryan Young\, PA-C\; and Manhattan Body Surgeon Dr. Dana Khuthaila\, M.D. F.R.C.S.C. F.A.C.S. who specializes in breast and body contouring.\n\n\n\nThe free event will be held from 5 - 7 p.m. in the practice's Poughkeepsie office at 82 North Water Street located in the Poughkeepsie Waterfront adjacent to the train station\, near The Walkway over the Hudson. Catered by Lola's Caf \, refreshments will feature locally-sourced hors d'oeuvres and beverages. Participants will also enjoy specials\, a raffle and gift items.\n\n\n\nSpace is limited so interested attendees should RSVP by calling 845-440-1828. For more information\, please visit www.NYfaceMD.com.
X-ALT-DESC;FMTTYPE=text/html:<h1><strong>THE EYES HAVE IT!</strong></h1>\n\n<h1><strong>Free Public Seminar on<br />\nCosmetic Eye Plastic Surgery</strong></h1>\n<br />\nPoughkeepsie\, NY &ndash\; On Wednesday\, October 16\, 2019\, Facial Plastic Reconstructive and Laser Surgery with Oasis Medispa will offer a free seminar on the latest options for eye rejuvenation. This will include both surgical and nonsurgical procedures\, many of which require virtually no down-time and provide immediate gratification.<br />\n<br />\nThe seminar will be hosted by practice owner\, double board certified and fellowship trained local Facial Plastic Surgeon Manoj T. Abraham\, M.D.\, F.A.C.S.\, a featured Hudson Valley Magazine Top Doctor\, and practice member Manhattan oculofacial plastic surgeon Yogita Kashyap\, M.D.\, who specializes exclusively in cosmetic and reconstructive procedures of the eyes\, eyelids\, and surrounding structures.<br />\n<br />\nPresented as an open forum\, the seminar will encourage members of the audience to ask questions and engage in dialogue with the experts to learn about their various options. Patients who have already had facial rejuvenation procedures will be on hand to provide a personal first-hand account of their experience and results. The hosts will be joined by the practice&rsquo\;s world class team of aestheticians\, massage therapists\, physician assistant Ryan Young\, PA-C\; and Manhattan Body Surgeon Dr. Dana Khuthaila\, M.D. F.R.C.S.C. F.A.C.S. who specializes in breast and body contouring.<br />\n<br />\nThe free event will be held from 5 - 7 p.m. in the practice&rsquo\;s Poughkeepsie office at 82 North Water Street located in the Poughkeepsie Waterfront adjacent to the train station\, near The Walkway over the Hudson. Catered by Lola&rsquo\;s Caf&eacute\;\, refreshments will feature locally-sourced hors d&rsquo\;oeuvres and beverages. Participants will also enjoy specials\, a raffle and gift items.<br />\n<br />\nSpace is limited so interested attendees should RSVP by calling 845-440-1828. For more information\, please visit <a href="https://www.nyfacemd.com/">www.NYfaceMD.com</a>.<br />\n<br />\n&nbsp\;
LOCATION:Facial Plastic Reconstructive Surgery offices at 82 North Water Street located in the Poughkeepsie Waterfront adjacent to the train station\, near The Walkway over the Hudson.
UID:e.2770.10481175
SEQUENCE:3
DTSTAMP:20260422T172759Z
URL:http://dutchesscountyregional.smartcms.site/events/details/free-public-seminar-on-cosmetic-eye-plastic-surgery-10481175
END:VEVENT

END:VCALENDAR
