BEGIN:VCALENDAR
VERSION:2.0
PRODID:-//ChamberMaster//Event Calendar 2.0//EN
METHOD:PUBLISH
X-PUBLISHED-TTL:P3D
REFRESH-INTERVAL:P3D
CALSCALE:GREGORIAN
BEGIN:VEVENT
DTSTART:20190516T210000Z
DTEND:20190516T230000Z
X-MICROSOFT-CDO-ALLDAYEVENT:FALSE
SUMMARY:FREE SEMINAR: BREATHE BETTER\, LOOK BETTER!
DESCRIPTION:Free Seminar: Breathe Better\, Look Better\n\n\nPoughkeepsie\, NY   On Thursday\, May 16\, 2019\, Facial Plastic Reconstructive and Laser Surgery with Oasis Medispa will offer a free seminar on Rhinoplasty\, the most frequently performed cosmetic surgical procedure in the United States which addresses the appearance of the nose.\n\n\n\nThe seminar will be hosted by practice owner\, double board certified and fellowship trained local Facial Plastic Surgeon and Otolaryngologist (ENT) Manoj T. Abraham\, M.D.\, F.A.C.S.\, @DrManojTAbraham\, who is uniquely qualified to address medical issues related to the nose and sinuses\, while also making sure the nose looks good. Dr. Abraham is a featured 2019 Top Doctor of Hudson Valley Magazine. Co-hosting this event will be another Rhinoplasty expert and member of the practice\, board certified\, Beverly Hills and fellowship trained Manhattan Facial Plastic Surgeon Michael Bassiri-Tehrani\, M.D. who specializes exclusively in cosmetic and reconstructive procedures of the nose\, face and neck.\n\n\n\nPresented as an open forum\, the seminar will encourage members of the audience who have suffered with breathing problems due to allergy issues or medical conditions within the nose to ask questions and engage in dialogue with the experts to learn about their various surgical and non-surgical options. Those with cosmetic concerns will be able to envision what is possible through a live digital imaging simulation which is immensely useful with this type of procedure. The hosts will be joined by the practice's world class team which includes Manhattan body surgeon Dr. Dana Khuthaila MD FRCSC FACS\, who specializes in breast and body contouring\; Dr. Yogita Kashyap\, a Manhattan oculofacial plastic surgeon specializing exclusively in cosmetic and reconstructive procedures of the eyes\, eyelids\, and surrounding structures\; physician assistant Ryan Young PA-C\; as well as aestheticians and massage therapists. In addition\, the office features a fully accredited operating suite.\n\n\n\nThe free event will be held from 5 - 7 p.m. in the practice's Poughkeepsie office at 82 North Water Street located in the Poughkeepsie Waterfront adjacent to the train station\, near The Walkway over the Hudson. Catered refreshments will feature locally-sourced ingredients and spring cocktails. Participants will also enjoy specials and a raffle.\n\n\n\nSpace is limited so interested attendees should RSVP by calling 845-367-7328. For more information\, please visit www.NYfaceMD.com.
X-ALT-DESC;FMTTYPE=text/html:<h1>Free Seminar: Breathe Better\, Look Better</h1>\n<br />\nPoughkeepsie\, NY &ndash\; On Thursday\, May 16\, 2019\, Facial Plastic Reconstructive and Laser Surgery with Oasis Medispa will offer a free seminar on Rhinoplasty\, the most frequently performed cosmetic surgical procedure in the United States which addresses the appearance of the nose.<br />\n<br />\nThe seminar will be hosted by practice owner\, double board certified and fellowship trained local Facial Plastic Surgeon and Otolaryngologist (ENT) Manoj T. Abraham\, M.D.\, F.A.C.S.\, @DrManojTAbraham\, who is uniquely qualified to address medical issues related to the nose and sinuses\, while also making sure the nose looks good. Dr. Abraham is a featured 2019 Top Doctor of Hudson Valley Magazine. Co-hosting this event will be another Rhinoplasty expert and member of the practice\, board certified\, Beverly Hills and fellowship trained Manhattan Facial Plastic Surgeon Michael Bassiri-Tehrani\, M.D. who specializes exclusively in cosmetic and reconstructive procedures of the nose\, face and neck.<br />\n<br />\nPresented as an open forum\, the seminar will encourage members of the audience who have suffered with breathing problems due to allergy issues or medical conditions within the nose to ask questions and engage in dialogue with the experts to learn about their various surgical and non-surgical options. Those with cosmetic concerns will be able to envision what is possible through a live digital imaging simulation which is immensely useful with this type of procedure. The hosts will be joined by the practice&rsquo\;s world class team which includes Manhattan body surgeon Dr. Dana Khuthaila MD FRCSC FACS\, who specializes in breast and body contouring\; Dr. Yogita Kashyap\, a Manhattan oculofacial plastic surgeon specializing exclusively in cosmetic and reconstructive procedures of the eyes\, eyelids\, and surrounding structures\; physician assistant Ryan Young PA-C\; as well as aestheticians and massage therapists. In addition\, the office features a fully accredited operating suite.<br />\n<br />\nThe free event will be held from 5 - 7 p.m. in the practice&rsquo\;s Poughkeepsie office at 82 North Water Street located in the Poughkeepsie Waterfront adjacent to the train station\, near The Walkway over the Hudson. Catered refreshments will feature locally-sourced ingredients and spring cocktails. Participants will also enjoy specials and a raffle.<br />\n<br />\nSpace is limited so interested attendees should RSVP by calling 845-367-7328. For more information\, please visit <a href="https://www.nyfacemd.com/">www.NYfaceMD.com</a>.<br />\n<br />\n&nbsp\;
LOCATION:In the Poughkeepsie NY office of Facial Plastic\, Reconstructive & Lasr Surgery and Oasis MediSpa at 82 North Water Street located in the Poughkeepsie Waterfront adjacent to the train station\, near The Walkway over the Hudson.
UID:e.2770.10480566
SEQUENCE:3
DTSTAMP:20260423T034953Z
URL:http://dutchesscountyregional.smartcms.site/events/details/free-seminar-breathe-better-look-better-10480566
END:VEVENT

END:VCALENDAR
