BEGIN:VCALENDAR
VERSION:2.0
PRODID:-//ChamberMaster//Event Calendar 2.0//EN
METHOD:PUBLISH
X-PUBLISHED-TTL:P3D
REFRESH-INTERVAL:P3D
CALSCALE:GREGORIAN
BEGIN:VEVENT
DTSTART:20200319T210000Z
DTEND:20200319T230000Z
X-MICROSOFT-CDO-ALLDAYEVENT:FALSE
SUMMARY:FREE SEMINAR ON COOLSCULPTING FAT REMOVAL & MORPHEUS SKIN TIGHTENING
DESCRIPTION:FREE SEMINAR ON COOLSCULPTING FAT REMOVAL & MORPHEUS SKIN TIGHTENING\n\n\nPoughkeepsie\, NY   On Thursday\, March 19\, 2020\, Dr. Manoj T. Abraham\, double board certified and fellowship trained local Facial Plastic Surgeon and owner of Facial Plastic Reconstructive and Laser Surgery with Oasis Medispa\, will offer a free seminar on the highly popular CoolSculpting procedure\, the world's #1 non-invasive fat removal treatment.\n\n\n\nCoolSculpting is an innovative way to contour the body by freezing unwanted fat away with no surgery or downtime. It is perfect for anyone who wants to get rid of stubborn bulges typically on thighs\, buttocks\, abdomen and arms\, as well as love handles and even a double chin. Facial Plastic Reconstructive and Laser Surgery with Oasis Medispa is a certified CoolSculpting practice.\n\n\n\nIn addition\, there will be presentations about Morpheus radio-frequency micro-needling for non-surgical skin tightening. This procedure works beautifully in conjunction with the results of CoolSculpting to address loose skin which sometimes occurs after the disappearance of fat.\n\n\n\nPresented as an open forum\, the seminar will encourage members of the audience to ask questions and engage in dialogue with the experts to learn about their various options. Joining Dr. Abraham\, who is a repeatedly featured Hudson Valley Magazine Top Doctor\, will be physician assistant Ryan Young\, PA-C and the practice's world class team of aestheticians and massage therapists.\n\n\n\nThe free event will be held from 5 - 7 p.m. in the practice's Poughkeepsie office at 82 North Water Street located in the Poughkeepsie Waterfront adjacent to the train station\, near The Walkway over the Hudson. Catered by Casual Elegance Catering\, refreshments will feature locally-sourced hors d'oeuvres and beverages. Participants will also enjoy specials\, a raffle and gift items.\n\n\n\nSpace is limited so interested attendees should RSVP by calling 845-440-1828. For more information\, please visit www.NYfaceMD.com.
X-ALT-DESC;FMTTYPE=text/html:<h1><strong><span style="font-family:arial\,helvetica\,sans-serif">FREE SEMINAR ON COOLSCULPTING FAT REMOVAL &amp\; MORPHEUS SKIN TIGHTENING</span></strong></h1>\n<br />\nPoughkeepsie\, NY &ndash\; On Thursday\, March 19\, 2020\, Dr. Manoj T. Abraham\, double board certified and fellowship trained local Facial Plastic Surgeon and owner of Facial Plastic Reconstructive and Laser Surgery with Oasis Medispa\, will offer a free seminar on the highly popular CoolSculpting procedure\, the world&#39\;s #1 non-invasive fat removal treatment.<br />\n<br />\nCoolSculpting is an innovative way to contour the body by freezing unwanted fat away with no surgery or downtime. It is perfect for anyone who wants to get rid of stubborn bulges typically on thighs\, buttocks\, abdomen and arms\, as well as love handles and even a double chin. Facial Plastic Reconstructive and Laser Surgery with Oasis Medispa is a certified CoolSculpting practice.<br />\n<br />\nIn addition\, there will be presentations about Morpheus radio-frequency micro-needling for non-surgical skin tightening. This procedure works beautifully in conjunction with the results of CoolSculpting to address loose skin which sometimes occurs after the disappearance of fat.<br />\n<br />\nPresented as an open forum\, the seminar will encourage members of the audience to ask questions and engage in dialogue with the experts to learn about their various options. Joining Dr. Abraham\, who is a repeatedly featured Hudson Valley Magazine Top Doctor\, will be physician assistant Ryan Young\, PA-C and the practice&rsquo\;s world class team of aestheticians and massage therapists.<br />\n<br />\nThe free event will be held from 5 - 7 p.m. in the practice&rsquo\;s Poughkeepsie office at 82 North Water Street located in the Poughkeepsie Waterfront adjacent to the train station\, near The Walkway over the Hudson. Catered by Casual Elegance Catering\, refreshments will feature locally-sourced hors d&rsquo\;oeuvres and beverages. Participants will also enjoy specials\, a raffle and gift items.<br />\n<br />\nSpace is limited so interested attendees should RSVP by calling 845-440-1828. For more information\, please visit <a href="https://www.NYfaceMD.com" target="_blank">www.NYfaceMD.com</a>.<br />\n<br />\n&nbsp\;
LOCATION:In the Poughkeepsie NY offices of Facial Plastic Surgery and Oasis Medispa at 82 North Water Street located in the Hudson River Waterfront adjacent to the train station\, near The Walkway over the Hudson.
UID:e.2770.10482652
SEQUENCE:3
DTSTAMP:20260422T091816Z
URL:http://dutchesscountyregional.smartcms.site/events/details/free-seminar-on-coolsculpting-fat-removal-morpheus-skin-tightening-10482652
END:VEVENT

END:VCALENDAR
