BEGIN:VCALENDAR
VERSION:2.0
PRODID:-//ChamberMaster//Event Calendar 2.0//EN
METHOD:PUBLISH
X-PUBLISHED-TTL:P3D
REFRESH-INTERVAL:P3D
CALSCALE:GREGORIAN
BEGIN:VEVENT
DTSTART:20180503T210000Z
DTEND:20180503T230000Z
X-MICROSOFT-CDO-ALLDAYEVENT:FALSE
SUMMARY:FREE SEMINAR ON MOMMY MAKEOVERS & COOLSCULPTING
DESCRIPTION:Free Seminar on\n\nMommy Makeovers and CoolSculpting\n\n\n\nPoughkeepsie\, NY   On Thursday\, May 3\, 2018\, Facial Plastic Reconstructive and Laser Surgery with Oasis Medispa will offer a free seminar on Mommy Makeovers with both surgical and nonsurgical options\, and the highly popular CoolSculpting procedure\, the world's #1 non-invasive fat removal treatment.\n\n\n\nThe seminar will feature practice member Manhattan Elite Body Plastic Surgeon Dana K. Khuthaila\, M.D.\, F.R.C.S.C.\, F.A.C.S.\, a double board-certified plastic surgeon offering cosmetic and reconstructive surgery with a special focus on breast and body contouring especially following massive weight loss (bariatric surgery) or pregnancy.\n\n\n\nCoolSculpting is an innovative way to contour the body by freezing unwanted fat away with no surgery or downtime. It is perfect for anyone who wants to get rid of stubborn bulges typically on thighs\, buttocks\, abdomen and arms\, as well as love handles and even a double chin. Facial Plastic Reconstructive and Laser Surgery with Oasis Medispa is a certified CoolSculpting practice.\n\n\n\nPresented as an open forum\, the seminar will encourage members of the audience to ask questions and engage in dialogue with the experts to learn about their various options. Joining Dr. Khuthaila will be practice owner\, double board certified and fellowship trained local Facial Plastic Surgeon Manoj T. Abraham\, M.D.\, F.A.C.S.\, featured Hudson Valley Magazine Top Doctor for 2017\; board certified and fellowship trained Manhattan Facial Plastic Surgeon Michael Bassiri-Tehrani\, M.D.\; and Manhattan oculofacial plastic surgeon Yogita Kashyap\, M.D.\; as well as physician assistant Ryan Young\, PA-C and the practice's world class team of aestheticians and massage therapists.\n\n\n\nThe free event will be held from 5 - 7 p.m. in the practice's Poughkeepsie office at 82 North Water Street located in the Poughkeepsie Waterfront adjacent to the train station\, near The Walkway over the Hudson. Catered by Lola's Caf \, refreshments will feature locally-sourced hors d'oeuvres and beverages. Participants will also enjoy specials\, a raffle and gift items.\n\n\n\nSpace is limited so interested attendees should RSVP by calling 845-454-8025. For more information\, please visit www.NYfaceMD.com.
X-ALT-DESC;FMTTYPE=text/html:<strong>Free Seminar on<br />\nMommy Makeovers and CoolSculpting</strong><br />\n<br />\nPoughkeepsie\, NY &ndash\; On Thursday\, May 3\, 2018\, Facial Plastic Reconstructive and Laser Surgery with Oasis Medispa will offer a free seminar on Mommy Makeovers with both surgical and nonsurgical options\, and the highly popular CoolSculpting procedure\, the world&#39\;s #1 non-invasive fat removal treatment.<br />\n<br />\nThe seminar will feature practice member Manhattan Elite Body Plastic Surgeon Dana K. Khuthaila\, M.D.\, F.R.C.S.C.\, F.A.C.S.\, a double board-certified plastic surgeon offering cosmetic and reconstructive surgery with a special focus on breast and body contouring especially following massive weight loss (bariatric surgery) or pregnancy.<br />\n<br />\nCoolSculpting is an innovative way to contour the body by freezing unwanted fat away with no surgery or downtime. It is perfect for anyone who wants to get rid of stubborn bulges typically on thighs\, buttocks\, abdomen and arms\, as well as love handles and even a double chin. Facial Plastic Reconstructive and Laser Surgery with Oasis Medispa is a certified CoolSculpting practice.<br />\n<br />\nPresented as an open forum\, the seminar will encourage members of the audience to ask questions and engage in dialogue with the experts to learn about their various options. Joining Dr. Khuthaila will be practice owner\, double board certified and fellowship trained local Facial Plastic Surgeon Manoj T. Abraham\, M.D.\, F.A.C.S.\, featured Hudson Valley Magazine Top Doctor for 2017\; board certified and fellowship trained Manhattan Facial Plastic Surgeon Michael Bassiri-Tehrani\, M.D.\; and Manhattan oculofacial plastic surgeon Yogita Kashyap\, M.D.\; as well as physician assistant Ryan Young\, PA-C and the practice&rsquo\;s world class team of aestheticians and massage therapists.<br />\n<br />\nThe free event will be held from 5 - 7 p.m. in the practice&rsquo\;s Poughkeepsie office at 82 North Water Street located in the Poughkeepsie Waterfront adjacent to the train station\, near The Walkway over the Hudson. Catered by Lola&rsquo\;s Caf&eacute\;\, refreshments will feature locally-sourced hors d&rsquo\;oeuvres and beverages. Participants will also enjoy specials\, a raffle and gift items.<br />\n<br />\nSpace is limited so interested attendees should RSVP by calling 845-454-8025. For more information\, please visit <a href="http://www.NYfaceMD.com" target="_blank"><strong>www.NYfaceMD.com</strong></a>.
LOCATION:The free event will be held from 5 - 7 p.m. in the practice's Poughkeepsie office at 82 North Water Street located in the Poughkeepsie NY Waterfront adjacent to the train station\, near The Walkway over the Hudson.
UID:e.2770.10477636
SEQUENCE:3
DTSTAMP:20260426T034405Z
URL:http://dutchesscountyregional.smartcms.site/events/details/free-seminar-on-mommy-makeovers-coolsculpting-05-03-2018-10477636
END:VEVENT

END:VCALENDAR
