BEGIN:VCALENDAR
VERSION:2.0
PRODID:-//ChamberMaster//Event Calendar 2.0//EN
METHOD:PUBLISH
X-PUBLISHED-TTL:P3D
REFRESH-INTERVAL:P3D
CALSCALE:GREGORIAN
BEGIN:VEVENT
DTSTART:20200415T200000Z
DTEND:20200415T213000Z
X-MICROSOFT-CDO-ALLDAYEVENT:FALSE
SUMMARY:FREE Virtual Master Class Series Featuring - Bjorn Englen
DESCRIPTION:Rock Will Never Die\n\nSchool of Rock Beacon\, NY FREE Virtual Master Class Series Featuring - Bjorn Englen\n\nBjorn is one of the most prolific and hardworking Rock Bass Players in the business today. He has held down the bass role for Quiet Riot\, Robin McAuley\, Yngwie Malmsteen\, Scorpions' Uli Jon Roth\, Tony MacAlpine and Dio Returns/Dio Disciples.\n\nBjorn's session work includes contribution on over 50 albums featuring members of Black Sabbath\, AC/DC\, Elton John\, Heart\, The Supremes\, David Lee Roth\, Sweet\, Ted Nugent\, Alice Cooper\, Dokken\, Manowar and many more....\n\nBjorn will take you through the life of a global touring musician including Effective Practice Strategies\, Being a Team Player\, Work Ethic\, Rehearsals\, Song Mapping\, Stagecraft & Performance\, Proper Gear\, Networking & Promotion Through Social Media\, Recording Tips and MORE...\n\nLogin for FREE at https://bit.ly/2VferD4\n\nPost your questions for Bjorn in advance at https://bit.ly/2JUJBui
X-ALT-DESC;FMTTYPE=text/html:<span style="font-size:16px"><strong>Rock Will Never Die</strong><br />\n<strong><u><span style="font-family:calibri\,sans-serif">School of Rock Beacon\, NY&nbsp\;</span></u></strong><strong><u>FREE</u> Virtual Master Class Series Featuring - Bjorn Englen</strong></span><br />\nBjorn is one of the most prolific and hardworking Rock Bass Players in the business today. He has held down the bass role for Quiet Riot\, Robin McAuley\, Yngwie Malmsteen\, Scorpions&#39\; Uli Jon Roth\, Tony MacAlpine and Dio Returns/Dio Disciples.<br />\nBjorn&rsquo\;s session work includes contribution on over 50 albums featuring members of Black Sabbath\, AC/DC\, Elton John\, Heart\, The Supremes\, David Lee Roth\, Sweet\, Ted Nugent\, Alice Cooper\, Dokken\, Manowar and many more....<br />\nBjorn will take you through the life of a global touring musician including Effective Practice Strategies\, Being a Team Player\, Work Ethic\, Rehearsals\, Song Mapping\, Stagecraft &amp\; Performance\, Proper Gear\, Networking &amp\; Promotion Through Social Media\, Recording Tips and MORE...<br />\nLogin for <strong><u>FREE</u></strong> at https://bit.ly/2VferD4<br />\nPost your questions for Bjorn in advance at https://bit.ly/2JUJBui
LOCATION:Zoom https://bit.ly/2VferD4
UID:e.2770.10483260
SEQUENCE:3
DTSTAMP:20260422T072049Z
URL:http://dutchesscountyregional.smartcms.site/events/details/free-virtual-master-class-series-featuring-bjorn-englen-10483260
END:VEVENT

END:VCALENDAR
