BEGIN:VCALENDAR
VERSION:2.0
PRODID:-//ChamberMaster//Event Calendar 2.0//EN
METHOD:PUBLISH
X-PUBLISHED-TTL:P3D
REFRESH-INTERVAL:P3D
CALSCALE:GREGORIAN
BEGIN:VEVENT
DTSTART:20200618T160000Z
DTEND:20200618T170000Z
X-MICROSOFT-CDO-ALLDAYEVENT:FALSE
SUMMARY:Free Webinar: K&B Brown Lunch Bag Webinar Series – “Preparing for Phase 3 Reopening – Economic Assistance for Businesses and Preparing Restaurants and Personal Services”
DESCRIPTION:On Thursday\, June 18\, 2020 at 12:00 p.m.\, Keane & Beane\, P.C. will present their fourth in a series of free Zoom webinars with special guests Westchester County Economic Development Director Bridget Gibbons and Deputy Health Commissioner Peter DeLucia. Ms. Gibbons and Mr. DeLucia will join Keane & Beane to discuss economic assistance for businesses and preparing restaurants and personal services for Phase 3 reopening.\n\nTopics include:\n\n\n	Role of the County's Economic Recovery Task Force\n	Financial Assistance Available for Businesses\n	WCDOH Guidance and Recommendations\n	Overview of NY Forward Guidance\n	Safety Plans\n	Indoor Dining Requirements\n	Outdoor Dining Requirements\n	SLA Guidance\n	Personal Services\n	Related Labor & Employment Law issues\n	Zoning and Lease Issues
X-ALT-DESC;FMTTYPE=text/html:<p>On Thursday\, June 18\, 2020 at 12:00 p.m.\, Keane &amp\; Beane\, P.C. will present their fourth in a series of free Zoom webinars with special guests <strong>Westchester County Economic Development Director Bridget Gibbons and Deputy Health Commissioner Peter DeLucia</strong>. Ms. Gibbons and Mr. DeLucia will join Keane &amp\; Beane to discuss economic assistance for businesses and preparing restaurants and personal services for Phase 3 reopening.</p>\n\n<p><strong>Topics include:</strong></p>\n\n<ul>\n	<li>Role of the County&rsquo\;s Economic Recovery Task Force</li>\n	<li>Financial Assistance Available for Businesses</li>\n	<li>WCDOH Guidance and Recommendations</li>\n	<li>Overview of NY Forward Guidance</li>\n	<li>Safety Plans</li>\n	<li>Indoor Dining Requirements</li>\n	<li>Outdoor Dining Requirements</li>\n	<li>SLA Guidance</li>\n	<li>Personal Services</li>\n	<li>Related Labor &amp\; Employment Law issues</li>\n	<li>Zoning and Lease Issues</li>\n</ul>\n
LOCATION:Zoom Webinar (Zoom link to be provided the morning of the presentation upon registration @ bdurkin@kblaw.com
UID:e.2770.10483320
SEQUENCE:3
DTSTAMP:20260422T034935Z
URL:http://dutchesscountyregional.smartcms.site/events/details/free-webinar-k-b-brown-lunch-bag-webinar-series-preparing-for-phase-3-reopening-economic-assistance-for-businesses-and-preparing-restaurants-and-personal-services-10483320
END:VEVENT

END:VCALENDAR
