BEGIN:VCALENDAR
VERSION:2.0
PRODID:-//ChamberMaster//Event Calendar 2.0//EN
METHOD:PUBLISH
X-PUBLISHED-TTL:P3D
REFRESH-INTERVAL:P3D
CALSCALE:GREGORIAN
BEGIN:VEVENT
DTSTART:20200623T150000Z
DTEND:20200623T160000Z
X-MICROSOFT-CDO-ALLDAYEVENT:FALSE
SUMMARY:Free Webinar: Pivoting Your Marketing Strategy for (What's Left of) 2020
DESCRIPTION:Pivoting Your Marketing Strategy for (What's Left of) 2020\n\nThe answer is digital.\n\n\n\nTuesday\, June 23\, 2020 @ 11:00am EDT\n\n\n\nHas your 2020 marketing veered way off course? It's time to re-focus your efforts for the rest of the year. Now's the time to pivot to digital marketing\, and BBG&G Advertising will explain how in this 45-minute webinar covering:\n\n- Digital Programmatic/SEM\n\n- Newsletters\n\n- Marketing Automation\n\n- SEO Optimization\n\n- E-Commerce\n\n*Warning\, there will be Friends references.\n\nREGISTER HERE: https://bbggadv.com/webinar-signup/
X-ALT-DESC;FMTTYPE=text/html:<span style="color:rgb(28\, 30\, 33)\; font-family:system-ui\,-apple-system\,system-ui\,.sfnstext-regular\,sans-serif\; font-size:14px"><strong>Pivoting Your Marketing Strategy for (What&#39\;s Left of) 2020</strong><br />\n<em>The answer is digital.</em><br />\n<br />\n<strong>Tuesday\, June 23\, 2020 @ 11:00am EDT</strong><br />\n<br />\nHas your 2020 marketing veered way off course? It&#39\;s time to re-focus your efforts for the rest of the year. Now&#39\;s the time to pivot to digital marketing\, and BBG&amp\;G Advertising will explain how in this 45-minute webinar covering:</span><br />\n<span style="color:rgb(28\, 30\, 33)\; font-family:system-ui\,-apple-system\,system-ui\,.sfnstext-regular\,sans-serif\; font-size:14px">- Digital Programmatic/SEM</span><br />\n<span style="color:rgb(28\, 30\, 33)\; font-family:system-ui\,-apple-system\,system-ui\,.sfnstext-regular\,sans-serif\; font-size:14px">- Newsletters</span><br />\n<span style="color:rgb(28\, 30\, 33)\; font-family:system-ui\,-apple-system\,system-ui\,.sfnstext-regular\,sans-serif\; font-size:14px">- Marketing Automation</span><br />\n<span style="color:rgb(28\, 30\, 33)\; font-family:system-ui\,-apple-system\,system-ui\,.sfnstext-regular\,sans-serif\; font-size:14px">- SEO Optimization</span><br />\n<span style="color:rgb(28\, 30\, 33)\; font-family:system-ui\,-apple-system\,system-ui\,.sfnstext-regular\,sans-serif\; font-size:14px">- E-Commerce<br />\n*Warning\, there will be <em>Friends</em> references.<br />\nREGISTER HERE:&nbsp\;<a href="https://bbggadv.com/webinar-signup/?fbclid=IwAR0sb-Z966TXRLH7HCwNUWCBO9H4dvJJWxYdY3OVXeNqsKQoVF0Zp-qNn4Y" rel="noopener nofollow" style="color: rgb(56\, 88\, 152)\; cursor: pointer\; text-decoration-line: none\; font-family: inherit\;" target="_blank">https://bbggadv.com/webinar-signup/</a></span>
LOCATION:Virtual Event
UID:e.2770.10483304
SEQUENCE:3
DTSTAMP:20260422T034854Z
URL:http://dutchesscountyregional.smartcms.site/events/details/free-webinar-pivoting-your-marketing-strategy-for-what-s-left-of-2020-10483304
END:VEVENT

END:VCALENDAR
