BEGIN:VCALENDAR
VERSION:2.0
PRODID:-//ChamberMaster//Event Calendar 2.0//EN
METHOD:PUBLISH
X-PUBLISHED-TTL:P3D
REFRESH-INTERVAL:P3D
CALSCALE:GREGORIAN
BEGIN:VEVENT
DTSTART:20200521T203000Z
DTEND:20200521T213000Z
X-MICROSOFT-CDO-ALLDAYEVENT:FALSE
SUMMARY:Free Webinar: Take Back Your Legs from Variocose Veins!
DESCRIPTION:Join us for a free webinar to learn about varicose veins and the serious health concerns that may arise if left untreated. We'll discuss risk factors\, lifestyle changes\, and treatment options that can help relieve your leg pain and get your health back on track!\n\n\n\nRegistration is limited. Don't delay\, sign up today!\n\nhttps://zoom.us/webinar/register/4915887982026/WN_dvlsJDVVTmSeJaTUoRatvw
X-ALT-DESC;FMTTYPE=text/html:Join us for a free webinar to learn about varicose veins and the serious health concerns that may arise if left untreated. We&rsquo\;ll discuss risk factors\, lifestyle changes\, and treatment options that can help relieve your leg pain and get your health back on track!<br />\n<br />\nRegistration is limited. Don&#39\;t delay\, sign up today!<br />\nhttps://zoom.us/webinar/register/4915887982026/WN_dvlsJDVVTmSeJaTUoRatvw
LOCATION:https://zoom.us/webinar/register/4915887982026/WN_dvlsJDVVTmSeJaTUoRatvw
UID:e.2770.10483285
SEQUENCE:3
DTSTAMP:20260422T072130Z
URL:http://dutchesscountyregional.smartcms.site/events/details/free-webinar-take-back-your-legs-from-variocose-veins-10483285
END:VEVENT

END:VCALENDAR
