BEGIN:VCALENDAR
VERSION:2.0
PRODID:-//ChamberMaster//Event Calendar 2.0//EN
METHOD:PUBLISH
X-PUBLISHED-TTL:P3D
REFRESH-INTERVAL:P3D
CALSCALE:GREGORIAN
BEGIN:VEVENT
DTSTART:20190610T120000Z
DTEND:20190610T210000Z
X-MICROSOFT-CDO-ALLDAYEVENT:FALSE
SUMMARY:Friends of Seniors 2nd Annual Golf Tournament\, "DRIVING FOR SENIORS!"
DESCRIPTION:Friends of Seniors will hold its second annual Golf Tournament on Monday\, June 10 at McCann Memorial Golf Course.\n\nCOME JOIN US and one lucky will player will have the opportunity for a ONE MILLION DOLLAR* Hole-in-One shot!\n\n*(20-year annuity)\n\nEveryone has the opportunity for a $25\,000 Hole-in-One shot!\n\nOther Hole-in-One prizes include:\n\nOne-year supply of Bridgestone Golf Balls\n\nSet of Cobra King F8 Irons\n\n$2\,000 in Complimentary Golf Courtesy of TeeOff.com\n\n\n\nFOUR-PLAYER TEAM WITH A SHOTGUN START\n\nRegistration Fee: $135/Player\n\nRegistration at 8:00 - Shotgun Start at 9:00\n\n18 Holes with Cart\n\nComplimentary Beverage Carts\n\nContinental Breakfast\n\nLunch-at-the-Turn\n\nDinner and Awards Ceremony at Christo's\n\nClosest-to-the-Pin Contest\n\nLongest Drive Contest\n\nTeam Awards\n\nRaffles\n\n50/50\n\nSponsorships Available\n\nPlease call 845-485-1277 for more information.\n\nTo learn more about Friends of Seniors\, please visit our website: www.friendsofseniors.biz
X-ALT-DESC;FMTTYPE=text/html:<p>Friends of Seniors will hold its second annual Golf Tournament on Monday\, June 10 at McCann Memorial Golf Course.</p>\n\n<p><strong>COME JOIN US</strong> and one lucky will player will have the opportunity for a <strong>ONE MILLION DOLLAR*</strong> Hole-in-One shot!</p>\n\n<p>*(20-year annuity)</p>\n\n<p>Everyone has the opportunity for a <strong>$25\,000</strong> Hole-in-One shot!</p>\n\n<p>Other Hole-in-One prizes include:</p>\n\n<p><strong>One-year supply of Bridgestone Golf Balls<br />\nSet of Cobra King F8 Irons<br />\n$2\,000 in Complimentary Golf Courtesy of TeeOff.com</strong><br />\n<br />\nFOUR-PLAYER TEAM WITH A SHOTGUN START</p>\n\n<p>Registration Fee: $135/Player</p>\n\n<p>Registration at 8:00 - Shotgun Start at 9:00</p>\n\n<p>18 Holes with Cart<br />\nComplimentary Beverage Carts<br />\nContinental Breakfast<br />\nLunch-at-the-Turn<br />\nDinner and Awards Ceremony at Christo&#39\;s</p>\n\n<p>Closest-to-the-Pin Contest<br />\nLongest Drive Contest<br />\nTeam Awards<br />\nRaffles<br />\n50/50</p>\n\n<p>Sponsorships Available<br />\nPlease call 845-485-1277 for more information.<br />\nTo learn more about Friends of Seniors\, please visit our website: www.friendsofseniors.biz</p>\n
LOCATION:McCann Memorial Golf Course 155 Wilbur Blvd. Poughkeepsie\, NY 12603
UID:e.2770.10480570
SEQUENCE:3
DTSTAMP:20260423T021451Z
URL:http://dutchesscountyregional.smartcms.site/events/details/friends-of-seniors-2nd-annual-golf-tournament-driving-for-seniors-06-10-2019-10480570
END:VEVENT

END:VCALENDAR
