BEGIN:VCALENDAR
VERSION:2.0
PRODID:-//ChamberMaster//Event Calendar 2.0//EN
METHOD:PUBLISH
X-PUBLISHED-TTL:P3D
REFRESH-INTERVAL:P3D
CALSCALE:GREGORIAN
BEGIN:VEVENT
DTSTART:20191201T200000Z
DTEND:20191201T223000Z
X-MICROSOFT-CDO-ALLDAYEVENT:FALSE
SUMMARY:Gateway Foundation Bowling
DESCRIPTION:Sunday\, December 1st 2019 3pm Registration Bowl 3:30-5:30 pm $15 per person Ticket Price includes: 2 Hours of Bowling\, Shoe Rental\, Entry to door prize We will have Raffles & 50/50. If your interested we are looking for Raffle & lane Sponsors!! Please Reserve & pay for your spot today so we know how may lanes to reserve. Please call Melissa Thomas (845) 331-1261 ext. 212 We Hope you can SPARE some time for this great cause! * All proceeds go to Gateway Foundation to support the programs of the individuals we serve.
X-ALT-DESC;FMTTYPE=text/html:Sunday\, December 1st 2019 3pm Registration Bowl 3:30-5:30 pm $15 per person Ticket Price includes: 2 Hours of Bowling\, Shoe Rental\, Entry to door prize We will have Raffles &amp\; 50/50. If your interested we are looking for Raffle &amp\; lane Sponsors!! Please Reserve &amp\; pay for your spot today so we know how may lanes to reserve. Please call Melissa Thomas (845) 331-1261 ext. 212 We Hope you can SPARE some time for this great cause! * All proceeds go to Gateway Foundation to support the programs of the individuals we serve.
LOCATION:Patel's Kingston Lanes 644 East Chester St Kingston\, NY 12401
UID:e.2770.10482588
SEQUENCE:3
DTSTAMP:20260422T135521Z
URL:http://dutchesscountyregional.smartcms.site/events/details/gateway-foundation-bowling-10482588
END:VEVENT

END:VCALENDAR
