BEGIN:VCALENDAR
VERSION:2.0
PRODID:-//ChamberMaster//Event Calendar 2.0//EN
METHOD:PUBLISH
X-PUBLISHED-TTL:P3D
REFRESH-INTERVAL:P3D
CALSCALE:GREGORIAN
BEGIN:VEVENT
DTSTART:20180518T210000Z
DTEND:20180520T210000Z
X-MICROSOFT-CDO-ALLDAYEVENT:FALSE
SUMMARY:Germania MAIFEST !
DESCRIPTION:An authentic\, fun and festive Maifest will be held at Germania Festival Grounds\, 51 Old DeGarmo Road\, Poughkeepsie\, NY! Friday May 18th\, 5-10pm\, Saturday Noon-10pm\, and Sunday May 20th\, Noon-6pm. Event features live German bands\, German food\, home baked desserts\, German beers\, children's entertainment\, Bavarian dancers and singers. Event will be held Rain or Shine under tents. Adult entry ticket $5 daily\, $4 Veterans and Active Military with valid ID\, children under 16 no cost. Parking is Free! Please visit www.germaniaPok.com or find us on Facebook for additional details. Germania of Poughkeepsie\, founded in 1850\, is a not for profit organization committed to promoting German American Heritage throughout our Hudson Valley community. We accomplish this in part by hosting various events throughout the year including the Germania Maifest\, Germania Oktoberfest\, Germania Christkindlmarkt\, and Germania Heritage Day & Bake Sale at the Galleria Mall. Germania also sponsors numerous "Sister Clubs" and promotes various cultural programs. These include the German Singers\, Germania Almrausch Schuhplattler Verein\, Germania Blue & White Soccer Club\, The Steuben Society of America (Dr. Charles Gilbert Spross Unit #167)\, German Language Class and Ballroom Dancing Class. We are proud of the numerous prizes won by our chorus\, the trophies won by our soccer teams\, including NYS Cup\, and the repeated requests for performances and honors won by our Schuhplattler dance group. We also hold clothing\, food and toy drives for Hudson Valley churches and their families\, and grant scholarships annually to BOCES CTI Culinary program graduates. Our goods and services are purchased exclusively through locally owned\, Hudson Valley businesses. Over the past 168 years Germania has done much to enrich our area with programs in music\, sport\, dance\, and citizenship. Germania remains a private club\, and is actively looking to increase its membership. Enrollment is open to individuals of all faiths and backgrounds. Please contact Germania directly for further information by emailing president@Germaniapok.com or calling 845-471-0609.
X-ALT-DESC;FMTTYPE=text/html:An authentic\, fun and festive Maifest will be held at Germania Festival Grounds\, 51 Old DeGarmo Road\, Poughkeepsie\, NY! Friday May 18th\, 5-10pm\, Saturday Noon-10pm\, and Sunday May 20th\, Noon-6pm. Event features live German bands\, German food\, home baked desserts\, German beers\, children&rsquo\;s entertainment\, Bavarian dancers and singers. Event will be held Rain or Shine under tents. Adult entry ticket $5 daily\, $4 Veterans and Active Military with valid ID\, children under 16 no cost. Parking is Free! Please visit www.germaniaPok.com or find us on Facebook for additional details. Germania of Poughkeepsie\, founded in 1850\, is a not for profit organization committed to promoting German American Heritage throughout our Hudson Valley community. We accomplish this in part by hosting various events throughout the year including the Germania Maifest\, Germania Oktoberfest\, Germania Christkindlmarkt\, and Germania Heritage Day &amp\; Bake Sale at the Galleria Mall. Germania also sponsors numerous &quot\;Sister Clubs&quot\; and promotes various cultural programs. These include the German Singers\, Germania Almrausch Schuhplattler Verein\, Germania Blue &amp\; White Soccer Club\, The Steuben Society of America (Dr. Charles Gilbert Spross Unit #167)\, German Language Class and Ballroom Dancing Class. We are proud of the numerous prizes won by our chorus\, the trophies won by our soccer teams\, including NYS Cup\, and the repeated requests for performances and honors won by our Schuhplattler dance group. We also hold clothing\, food and toy drives for Hudson Valley churches and their families\, and grant scholarships annually to BOCES CTI Culinary program graduates. Our goods and services are purchased exclusively through locally owned\, Hudson Valley businesses. Over the past 168 years Germania has done much to enrich our area with programs in music\, sport\, dance\, and citizenship. Germania remains a private club\, and is actively looking to increase its membership. Enrollment is open to individuals of all faiths and backgrounds. Please contact Germania directly for further information by emailing president@Germaniapok.com or calling 845-471-0609.
LOCATION:GERMANIA FESTIVAL GROUNDS 51 Old Degarmo Road Poughkeepsie NY 12603
UID:e.2770.10477188
SEQUENCE:3
DTSTAMP:20260426T034233Z
URL:http://dutchesscountyregional.smartcms.site/events/details/germania-maifest-10477188
END:VEVENT

END:VCALENDAR
