BEGIN:VCALENDAR
VERSION:2.0
PRODID:-//ChamberMaster//Event Calendar 2.0//EN
METHOD:PUBLISH
X-PUBLISHED-TTL:P3D
REFRESH-INTERVAL:P3D
CALSCALE:GREGORIAN
BEGIN:VEVENT
DTSTART:20190209T220000Z
DTEND:20190210T030000Z
X-MICROSOFT-CDO-ALLDAYEVENT:FALSE
SUMMARY:Ghost Stories III
DESCRIPTION:Acclaimed Actors Hilarie Burton (One Tree Hill)\, Jeffrey Dean Morgan (Walking Dead)\, and friends come together for a night of fun\, spontaneous ghost story readings to kick-off the winter season. Proceeds from the February 9th event at the Ulster Performing Arts Center in Kingston benefit the children of Astor Services for Children & Families in Rhinebeck.  Join us for a night of ghoulish fun\, surprise guests\, and spooky hauntings.\n\n \n\nTickets for Ghost Stories III\, which include a $6 processing fee from Ticketmaster\, are $506 for premium orchestra seats and a photo\, $56-to-$256 for floor seats\, and $41 for limited/balcony/student/senior seats\, Bardavon.org\; Ticketmaster.
X-ALT-DESC;FMTTYPE=text/html:&nbsp\;<br />\n<span style="font-family: calibri\,sans-serif\;">Acclaimed Actors Hilarie Burton (One Tree Hill)\, Jeffrey Dean Morgan (Walking Dead)\, and friends&nbsp\;come&nbsp\;together&nbsp\;for a night of fun\, spontaneous ghost story readings to kick-off the&nbsp\;winter season. Proceeds&nbsp\;from the February 9th event at the Ulster Performing Arts Center in Kingston&nbsp\;benefit the children of Astor Services for Children &amp\; Families in Rhinebeck.&nbsp\; Join us for a night of ghoulish fun\, surprise guests\, and spooky hauntings.</span><br />\n&nbsp\;<br />\n<span style="font-family: calibri\,sans-serif\;">Tickets for Ghost Stories III\, which include&nbsp\;a $6 processing fee from Ticketmaster\, are&nbsp\;$506 for premium orchestra seats and a photo\, $56-to-$256 for floor seats\,&nbsp\;and $41 for limited/balcony/student/senior seats\,&nbsp\;<a href="http://r20.rs6.net/tn.jsp?f=001OnH_CLaqbcKzsz91PEfWZTLfrL9RT5oid_WAgAHzoQP4yQog1l25NQvPMeO_sv6CVcszxpppJp0k4M9K158BerTzsfq_MioFeeOuBsuM-aHB3MmYttyacMdM7TKN1eE6I1VjEHmBzQpF3XZozKR_vpHlYd3J4AWbO1KtBImEp3T04iry0oC_I5KfmLv6oY89wQft5W0032Y=&amp\;c=v3JN6-mQKD3JTeIcdGqd8WNvGIpY19CvsjqDnQ_GSxA5-kliUvUKXg==&amp\;ch=Ckc8yP1GimfTOBwyXa37zZr1cBtAsaqGFTi2CwAwMmdIzAfeUveofA==" target="_blank">Bardavon.org</a></span>\;&nbsp\;<a href="https://www1.ticketmaster.com/ghost-stories-3/event/0000557D8A7E16E8" target="_blank">Ticketmaster</a>.
LOCATION:Ulster Performing Arts Center 601 Broadway Kingston\, NY 12401
UID:e.2770.10480445
SEQUENCE:3
DTSTAMP:20260423T083819Z
URL:http://dutchesscountyregional.smartcms.site/events/details/ghost-stories-iii-10480445
END:VEVENT

END:VCALENDAR
