BEGIN:VCALENDAR
VERSION:2.0
PRODID:-//ChamberMaster//Event Calendar 2.0//EN
METHOD:PUBLISH
X-PUBLISHED-TTL:P3D
REFRESH-INTERVAL:P3D
CALSCALE:GREGORIAN
BEGIN:VEVENT
DTSTART:20181207T233000Z
DTEND:20181208T010000Z
X-MICROSOFT-CDO-ALLDAYEVENT:FALSE
SUMMARY:Gluten-Free Holiday Cookie Extravaganza
DESCRIPTION:Join The Hudson Valley Celiac Support Group for this 2nd annual family-fun event! Feel free to bring your favorite store-bought\, gluten-free cookies to share as well as copies of your favorite gluten-free cookie recipe. Our elves will provide all the gluten-free refreshments\, crafts for the kids and all the holiday cheer! RSVP by Dec. 5th 845-452-9800
X-ALT-DESC;FMTTYPE=text/html:Join The Hudson Valley Celiac Support Group for this 2nd annual family-fun event! Feel free to bring your favorite store-bought\, gluten-free cookies to share as well as copies of your favorite gluten-free cookie recipe. Our elves will provide all the gluten-free refreshments\, crafts for the kids and all the holiday cheer! RSVP by Dec. 5th 845-452-9800
LOCATION:Northern Medical Group 159 Barnegat Road Poughkeepsie (2nd Floor Conference Room)
UID:e.2770.10479866
SEQUENCE:3
DTSTAMP:20260425T142621Z
URL:http://dutchesscountyregional.smartcms.site/events/details/gluten-free-holiday-cookie-extravaganza-10479866
END:VEVENT

END:VCALENDAR
