BEGIN:VCALENDAR
VERSION:2.0
PRODID:-//ChamberMaster//Event Calendar 2.0//EN
METHOD:PUBLISH
X-PUBLISHED-TTL:P3D
REFRESH-INTERVAL:P3D
CALSCALE:GREGORIAN
BEGIN:VEVENT
DTSTART:20210617T120000Z
DTEND:20210617T190000Z
X-MICROSOFT-CDO-ALLDAYEVENT:FALSE
SUMMARY:Golf Outing to Benefit Astor Services
DESCRIPTION:Rally your friends and colleagues and join Astor Services for Children and Families' Golf Committee for a fun day in support of the nonprofit! Tickets are priced at $275 per golfer or $1\,100 per foursome. Event tickets include:   18 holes at the Powelton Club\, a members-only club   Breakfast   Boxed lunch to enjoy on the green   Cocktail hour and hors d'oeuvres   Award presentation For more information about the event\, or to purchase your ticket\, visit: https://www.astorservices.org/event/golf/ To become a sponsor\, please contact Richmond Arce\, senior manager of PR and special events at (845) 594-6682.
X-ALT-DESC;FMTTYPE=text/html:Rally your friends and colleagues and join Astor Services for Children and Families&rsquo\; Golf Committee for a fun day in support of the nonprofit! Tickets are priced at $275 per golfer or $1\,100 per foursome. Event tickets include: &bull\; 18 holes at the Powelton Club\, a members-only club &bull\; Breakfast &bull\; Boxed lunch to enjoy on the green &bull\; Cocktail hour and hors d&rsquo\;oeuvres &bull\; Award presentation For more information about the event\, or to purchase your ticket\, visit: https://www.astorservices.org/event/golf/ To become a sponsor\, please contact Richmond Arce\, senior manager of PR and special events at (845) 594-6682.
LOCATION:Powelton Club 29 Balmville Road Newburgh\, NY 12550
UID:e.2770.10485116
SEQUENCE:3
DTSTAMP:20260421T101239Z
URL:http://dutchesscountyregional.smartcms.site/events/details/golf-outing-to-benefit-astor-services-10485116
END:VEVENT

END:VCALENDAR
