BEGIN:VCALENDAR
VERSION:2.0
PRODID:-//ChamberMaster//Event Calendar 2.0//EN
METHOD:PUBLISH
X-PUBLISHED-TTL:P3D
REFRESH-INTERVAL:P3D
CALSCALE:GREGORIAN
BEGIN:VEVENT
DTSTART:20191102T160000Z
DTEND:20191102T210000Z
X-MICROSOFT-CDO-ALLDAYEVENT:FALSE
SUMMARY:Grand Fall Wine Tasting Saturday
DESCRIPTION:Looking to find wines to pair for the holiday season?\n\nHunting for unique gifts for friends and family?\n\nSeeking a solution for corporate gifts?\n\n\n\nCome to our Grand Fall Wine Tasting Saturday\, November 2nd\, 12pm-5pm and Sunday\, November 3rd 1pm-5pm where we will be featuring wines to pair with your holiday fare\, interesting and unusual spirits and of course\, ciders and mead. From California Cabernet to Italian and French specialties\, we've got something that will give you an extra reason to celebrate this season!\n\n\n\nThe tasting\, admission\, parking and food are free\, but all guests must be 21+ with valid ID.
X-ALT-DESC;FMTTYPE=text/html:<span style="color:rgb(29\, 33\, 41)\; font-family:helvetica\,arial\,sans-serif\; font-size:14px">Looking to find wines to pair for the holiday season?</span><br />\n<span style="color:rgb(29\, 33\, 41)\; font-family:helvetica\,arial\,sans-serif\; font-size:14px">Hunting for unique gifts for friends and family?</span><br />\n<span style="color:rgb(29\, 33\, 41)\; font-family:helvetica\,arial\,sans-serif\; font-size:14px">Seeking a solution for corporate gifts?</span><br />\n<br />\n<span style="color:rgb(29\, 33\, 41)\; font-family:helvetica\,arial\,sans-serif\; font-size:14px">Come to our Grand Fall Wine Tasting Saturday\, November 2nd\, 12pm-5pm and Sunday\, November 3rd 1pm-5pm where we will be featuring wines to pair with your holiday fare\, interesting and unusual spirits and of course\, ciders and mead. From California Cabernet to Italian and French specialties\, we&#39\;ve got something that will give you an extra reason to celebrate this season!</span><br />\n<br />\n<span style="color:rgb(29\, 33\, 41)\; font-family:helvetica\,arial\,sans-serif\; font-size:14px">The tasting\, admission\, parking and food are free\, but all guests must be 21+ with valid ID.</span>
LOCATION:18 Westage Drive\, Fishkill 1/4 mile north of I-84\, off of Rt 9\, behind Boston Market\, next to Hudson Buffet.
UID:e.2770.10481492
SEQUENCE:3
DTSTAMP:20260422T172534Z
URL:http://dutchesscountyregional.smartcms.site/events/details/grand-fall-wine-tasting-saturday-10481492
END:VEVENT

END:VCALENDAR
