BEGIN:VCALENDAR
VERSION:2.0
PRODID:-//ChamberMaster//Event Calendar 2.0//EN
METHOD:PUBLISH
X-PUBLISHED-TTL:P3D
REFRESH-INTERVAL:P3D
CALSCALE:GREGORIAN
BEGIN:VEVENT
DTSTART:20191116T144500Z
DTEND:20191116T220000Z
X-MICROSOFT-CDO-ALLDAYEVENT:FALSE
SUMMARY:Grand Opening ReStore - Ribbon Cutting*
DESCRIPTION:Join us for the Grand Opening of Habitat Dutchess' new ReStore location at 8 Neptune Road Poughkeepsie NY 12603. Ribbon cutting- 9:45am Doors- 10:00am First 100 customers receive gift bags Fun event for the whole family- music\, snacks and of course shopping for great deals to support affordable housing!
X-ALT-DESC;FMTTYPE=text/html:Join us for the Grand Opening of Habitat Dutchess&#39\; new ReStore location at 8 Neptune Road Poughkeepsie NY 12603. Ribbon cutting- 9:45am Doors- 10:00am First 100 customers receive gift bags Fun event for the whole family- music\, snacks and of course shopping for great deals to support affordable housing!
LOCATION:8 Neptune Road Poughkeepsie NY 12603
UID:e.2770.10482560
SEQUENCE:3
DTSTAMP:20260422T155044Z
URL:http://dutchesscountyregional.smartcms.site/events/details/grand-opening-restore-ribbon-cutting-10482560
END:VEVENT

END:VCALENDAR
