BEGIN:VCALENDAR
VERSION:2.0
PRODID:-//ChamberMaster//Event Calendar 2.0//EN
METHOD:PUBLISH
X-PUBLISHED-TTL:P3D
REFRESH-INTERVAL:P3D
CALSCALE:GREGORIAN
BEGIN:VEVENT
DTSTART:20200404T160000Z
DTEND:20200404T210000Z
X-MICROSOFT-CDO-ALLDAYEVENT:FALSE
SUMMARY:Grand Spring Wine Tasting
DESCRIPTION:Join us to celebrate our 3rd year in business! We will have wines\, spirits\, & ciders open from all over the world. From sweet to dry\, value priced all the way up to that special bottle\, this event will showcase a wide array of tastes. Both days have different selections and vendors so feel free to attend both days and try different things! This is a FREE event. Everyone 21+ with Valid ID is welcome. Saturday: 12pm - 5pm Sunday 1pm-5pm We are located at 18 Westage Drive\,next to Hudson Buffet\, across Merritt Blvd from Walmart Fishkill\, and across Route 9 from Cracker Barrel Old Country Store.
X-ALT-DESC;FMTTYPE=text/html:Join us to celebrate our 3rd year in business! We will have wines\, spirits\, &amp\; ciders open from all over the world. From sweet to dry\, value priced all the way up to that special bottle\, this event will showcase a wide array of tastes. Both days have different selections and vendors so feel free to attend both days and try different things! This is a FREE event. Everyone 21+ with Valid ID is welcome. Saturday: 12pm - 5pm Sunday 1pm-5pm We are located at 18 Westage Drive\,next to Hudson Buffet\, across Merritt Blvd from Walmart Fishkill\, and across Route 9 from Cracker Barrel Old Country Store.
LOCATION:18 Westage Drive\, Fishkill. 1/4 mile north of I-84\, off of Route 9\, behind Boston Market.
UID:e.2770.10483226
SEQUENCE:3
DTSTAMP:20260422T072049Z
URL:http://dutchesscountyregional.smartcms.site/events/details/grand-spring-wine-tasting-10483226
END:VEVENT

END:VCALENDAR
