BEGIN:VCALENDAR
VERSION:2.0
PRODID:-//ChamberMaster//Event Calendar 2.0//EN
METHOD:PUBLISH
X-PUBLISHED-TTL:P3D
REFRESH-INTERVAL:P3D
CALSCALE:GREGORIAN
BEGIN:VEVENT
DTSTART:20190311T220000Z
DTEND:20190312T000000Z
X-MICROSOFT-CDO-ALLDAYEVENT:FALSE
SUMMARY:Great Customer Service- Keep Them Coming Back!
DESCRIPTION:Attract your best customers\, reward them\, expand your customer base\, and take your business to a higher level!\n\n \n\n  What is excellent customer service? \n\n  Practical human investments\n\n  Transparency\, flexibility\, and consistency\n\n  Know your customer and your brand - anticipate their needs\n\n  Best practices for diverse business sectors
X-ALT-DESC;FMTTYPE=text/html:<p><span style="color:#000000"><span style="font-size:16px"><span style="font-family:calibri">Attract your best customers\, reward them\, expand your customer base\, and take your business to a higher level!</span><br />\n&nbsp\;<br />\n<span style="font-family:symbol">&middot\;</span>&nbsp\;<span style="font-family:calibri">What is excellent customer service? </span><br />\n<span style="font-family:symbol">&middot\;</span>&nbsp\;<span style="font-family:calibri">Practical human investments</span><br />\n<span style="font-family:symbol">&middot\;</span>&nbsp\;<span style="font-family:calibri">Transparency\, flexibility\, and consistency</span><br />\n<span style="font-family:symbol">&middot\;</span>&nbsp\;<span style="font-family:calibri">Know your customer and your brand - anticipate their needs</span><br />\n<span style="font-family:symbol">&middot\;</span>&nbsp\;<span style="font-family:calibri">Best practices for diverse business sectors</span><br />\n&nbsp\;</span></span></p>\n
LOCATION:Think Dutchess 3 Neptune Road\, Suite A21 Poughkeepsie\, NY 12601
UID:e.2770.10479942
SEQUENCE:3
DTSTAMP:20260423T071847Z
URL:http://dutchesscountyregional.smartcms.site/events/details/great-customer-service-keep-them-coming-back-10479942
END:VEVENT

END:VCALENDAR
