BEGIN:VCALENDAR
VERSION:2.0
PRODID:-//ChamberMaster//Event Calendar 2.0//EN
METHOD:PUBLISH
X-PUBLISHED-TTL:P3D
REFRESH-INTERVAL:P3D
CALSCALE:GREGORIAN
BEGIN:VEVENT
DTSTART:20201015T213000Z
DTEND:20201016T003000Z
X-MICROSOFT-CDO-ALLDAYEVENT:FALSE
SUMMARY:Great Guys & Gals Event
DESCRIPTION:Hudson Valley Cancer invites you to the 2020 Great Guys & Gals Event! Join us Thursday\, October 15th as bring together two GREAT events for one GREAT night in honor of outstanding "Great Guys & Gals? who have demonstrated their commitment to our mission and the cancer community in the Hudson Valley. The Great Guys & Gals Event is the region's premier networking event connecting business professionals in over 20 different industries.
X-ALT-DESC;FMTTYPE=text/html:Hudson Valley Cancer invites you to the 2020 Great Guys &amp\; Gals Event! Join us Thursday\, October 15th as bring together two GREAT events for one GREAT night in honor of outstanding "Great Guys &amp\; Gals? who have demonstrated their commitment to our mission and the cancer community in the Hudson Valley.&nbsp\;The Great Guys &amp\; Gals Event is the region's premier networking event connecting business professionals in over 20 different industries.
LOCATION:West Hills Country Club 121 Golf Links Road Middletown\, NY 10940
UID:e.2770.10483246
SEQUENCE:3
DTSTAMP:20260421T211553Z
URL:http://dutchesscountyregional.smartcms.site/events/details/great-guys-gals-event-10483246
END:VEVENT

END:VCALENDAR
