BEGIN:VCALENDAR
VERSION:2.0
PRODID:-//ChamberMaster//Event Calendar 2.0//EN
METHOD:PUBLISH
X-PUBLISHED-TTL:P3D
REFRESH-INTERVAL:P3D
CALSCALE:GREGORIAN
BEGIN:VEVENT
DTSTART:20190413T190000Z
DTEND:20190413T220000Z
X-MICROSOFT-CDO-ALLDAYEVENT:FALSE
SUMMARY:Guns N Hoses
DESCRIPTION:Join Hudson Valley Guns N Hoses\, an organization of Firefighters & Law Enforcement Officers of the Hudson Valley as they take on The Saratoga Springs Local 343 Hockey club in an epic fundraising hockey game at the McCann Ice Arena! Admission: Free
X-ALT-DESC;FMTTYPE=text/html:Join Hudson Valley Guns N Hoses\, an organization of Firefighters &amp\; Law Enforcement Officers of the Hudson Valley as they take on The Saratoga Springs Local 343 Hockey club in an epic fundraising hockey game at the McCann Ice Arena! Admission: Free
LOCATION:Mid-Hudson Civic Center 14 Civic Center Plaza Poughkeepsie\, NY 12601
UID:e.2770.10480679
SEQUENCE:3
DTSTAMP:20260423T055106Z
URL:http://dutchesscountyregional.smartcms.site/events/details/guns-n-hoses-10480679
END:VEVENT

END:VCALENDAR
