BEGIN:VCALENDAR
VERSION:2.0
PRODID:-//ChamberMaster//Event Calendar 2.0//EN
METHOD:PUBLISH
X-PUBLISHED-TTL:P3D
REFRESH-INTERVAL:P3D
CALSCALE:GREGORIAN
BEGIN:VEVENT
DTSTART:20190513T160000Z
DTEND:20190513T230000Z
X-MICROSOFT-CDO-ALLDAYEVENT:FALSE
SUMMARY:Habitat for Humanity "FORE" Humanity Golf Tournament
DESCRIPTION:Habitat for Humanity of Dutchess County is having its 5th Annual Habitat "FORE" Humanity Golf Tournment on Monday\, May 13th at the McCann Memorial Golf Course.\n\n\n\nThe event is a 4-player scramble with 1:00pm shotgun start.  The $150 golfer registration fee includes the 18-hole round of golf\, hot buffet lunch\, on-the-course beverage and banquet dinner at Christo's. There will be plenty of fun side games and great raffle and silent auction items.\n\n\n\nFor more information\, golfers and sponsors can visit www.habitatdutchess.org\, or call 845-475-9336\, ext. 5.
X-ALT-DESC;FMTTYPE=text/html:Habitat for Humanity of Dutchess County is having its 5th Annual Habitat &quot\;FORE&quot\; Humanity Golf Tournment on Monday\, May 13th at the McCann Memorial Golf Course.<br />\n<br />\nThe event is a 4-player scramble with 1:00pm shotgun start. &nbsp\;The $150 golfer registration fee includes the 18-hole round of golf\, hot buffet lunch\, on-the-course beverage and banquet dinner at Christo&#39\;s. There will be plenty of fun side games and great raffle and silent auction items.<br />\n<br />\nFor more information\, golfers and sponsors can visit www.habitatdutchess.org\, or call 845-475-9336\, ext. 5.
LOCATION:McCann Memorial Golf Course\, Wilbur Blvd.\, Poughkeepsie\, New York
UID:e.2770.10480581
SEQUENCE:3
DTSTAMP:20260423T035158Z
URL:http://dutchesscountyregional.smartcms.site/events/details/habitat-for-humanity-fore-humanity-golf-tournament-10480581
END:VEVENT

END:VCALENDAR
