BEGIN:VCALENDAR
VERSION:2.0
PRODID:-//ChamberMaster//Event Calendar 2.0//EN
METHOD:PUBLISH
X-PUBLISHED-TTL:P3D
REFRESH-INTERVAL:P3D
CALSCALE:GREGORIAN
BEGIN:VEVENT
DTSTART;VALUE=DATE:20201123
DTEND;VALUE=DATE:20201205
TRANSP:TRANSPARENT
X-MICROSOFT-CDO-ALLDAYEVENT:TRUE
SUMMARY:Haitian Handcraft Holiday Sale
DESCRIPTION:Interested in beautifying your home this holiday season while also supporting talented Haitian artists? We invite you to virtually shop our several unique\, handmade Haitian holiday handcraft collections that offer a glimpse into the beauty of Haiti\, will enliven your home\, and serve as the perfect gifts for friends and family. These items are made in a variety of mediums including wood\, goat horn\, and paper m ch \, with artistic techniques that have been passed down through generations. All proceeds are to benefit our sustainable development projects in northwest Haiti. All purchases are 50% tax-deductible\, and all donations are 100% tax-deductible. Peruse our collections and place your orders online here: https://thehaitiproject.org/handcraft-holiday-collections-2020 Learn more about our work in Haiti at thehaitiproject.org. Contact us as thehaitiproject@gmail.com\, and 845-797-2123. Make a donation at https://thehaitiproject.org/donatenow
X-ALT-DESC;FMTTYPE=text/html:Interested in beautifying your home this holiday season while also supporting talented Haitian artists? We invite you to virtually shop our several unique\, handmade Haitian holiday handcraft collections that offer a glimpse into the beauty of Haiti\, will enliven your home\, and serve as the perfect gifts for friends and family. These items are made in a variety of mediums including wood\, goat horn\, and paper m&acirc\;ch&eacute\;\, with artistic techniques that have been passed down through generations. All proceeds are to benefit our sustainable development projects in northwest Haiti. All purchases are 50% tax-deductible\, and all donations are 100% tax-deductible. Peruse our collections and place your orders online here: https://thehaitiproject.org/handcraft-holiday-collections-2020 Learn more about our work in Haiti at thehaitiproject.org. Contact us as thehaitiproject@gmail.com\, and 845-797-2123. Make a donation at https://thehaitiproject.org/donatenow
LOCATION:Online
UID:e.2770.10484786
SEQUENCE:3
DTSTAMP:20260421T180214Z
URL:http://dutchesscountyregional.smartcms.site/events/details/haitian-handcraft-holiday-sale-10484786
END:VEVENT

END:VCALENDAR
