BEGIN:VCALENDAR
VERSION:2.0
PRODID:-//ChamberMaster//Event Calendar 2.0//EN
METHOD:PUBLISH
X-PUBLISHED-TTL:P3D
REFRESH-INTERVAL:P3D
CALSCALE:GREGORIAN
BEGIN:VEVENT
DTSTART:20191027T000000Z
DTEND:20191027T035500Z
X-MICROSOFT-CDO-ALLDAYEVENT:FALSE
SUMMARY:Halloween Costume Ball
DESCRIPTION:HEADLESS BANGERS COSTUME BALL\n\nJoin us for a Spooktacular Event at LeChambord at Curry Estate.  The BedRock Band will be entertaining with 80's Rock & Roll dance music.  \n\n\n\n$500 Frist Prize for Best Costume. \n\nCash Bar\, Lite Appetizers\, Special Menu Available\, Spiritual Readings\, Raffles and Prizes all night long. \n\n\n\nOnly $10 Admission
X-ALT-DESC;FMTTYPE=text/html:<u><strong>HEADLESS BANGERS COSTUME BALL</strong></u><br />\nJoin us for a Spooktacular Event at <a href="http://www.curryestate.com">LeChambord at Curry Estate</a>.&nbsp\; The BedRock Band will be entertaining with 80&#39\;s Rock &amp\; Roll dance music.&nbsp\;&nbsp\;<br />\n<br />\n<strong>$500 Frist Prize for Best Costume</strong>.&nbsp\;<br />\nCash Bar\, Lite Appetizers\, Special Menu Available\, Spiritual Readings\, Raffles and Prizes all night long.&nbsp\;<br />\n<br />\n<strong>Only $10 Admission</strong>
LOCATION:LeChambord at Curry Estate 2737 Route 52 Hopewell Jct\, NY 12533
UID:e.2770.10481489
SEQUENCE:3
DTSTAMP:20260422T191016Z
URL:http://dutchesscountyregional.smartcms.site/events/details/halloween-costume-ball-10481489
END:VEVENT

END:VCALENDAR
