BEGIN:VCALENDAR
VERSION:2.0
PRODID:-//ChamberMaster//Event Calendar 2.0//EN
METHOD:PUBLISH
X-PUBLISHED-TTL:P3D
REFRESH-INTERVAL:P3D
CALSCALE:GREGORIAN
BEGIN:VEVENT
DTSTART:20190313T220000Z
DTEND:20190313T230000Z
X-MICROSOFT-CDO-ALLDAYEVENT:FALSE
SUMMARY:Alzheimer's Association "Healthy Living for your brain and body: Tips from the latest research"
DESCRIPTION:A free educational program by the Alzheimer's Association Hudson Valley Chapter with information on diet\, nutrition\, exercise\, cognitive activity and social engagement. Get hands-on tools to develop a plan for healthy aging. To RSVP\, call the library at 845.452.3141. For more information\, call The Alzheimer's Association at 800.272.3900.
X-ALT-DESC;FMTTYPE=text/html:A free educational program by the Alzheimer&#39\;s Association Hudson Valley Chapter with information on diet\, nutrition\, exercise\, cognitive activity and social engagement. Get hands-on tools to develop a plan for healthy aging. To RSVP\, call the library at 845.452.3141. For more information\, call The Alzheimer&#39\;s Association at 800.272.3900.
LOCATION:Lagrange Library 488 Freedom Plains Road\, Suite 109 Poughkeepsie\, NY 12603
UID:e.2770.10480208
SEQUENCE:3
DTSTAMP:20260423T072235Z
URL:http://dutchesscountyregional.smartcms.site/events/details/healthy-living-for-your-brain-and-body-tips-from-the-latest-research-10480208
END:VEVENT

END:VCALENDAR
