BEGIN:VCALENDAR
VERSION:2.0
PRODID:-//ChamberMaster//Event Calendar 2.0//EN
METHOD:PUBLISH
X-PUBLISHED-TTL:P3D
REFRESH-INTERVAL:P3D
CALSCALE:GREGORIAN
BEGIN:VEVENT
DTSTART:20200207T200000Z
DTEND:20200207T223000Z
X-MICROSOFT-CDO-ALLDAYEVENT:FALSE
SUMMARY:Heart Walk Kickoff
DESCRIPTION:Dutchess Ulster Heart Walk Kick-off and Pasta Dinners TO GO at the Culinary Institute of America. Each year in the U.S.\, more than 350\,000 cardiac arrests occur outside of a hospital setting   that's more than the population of Dutchess County! Join us at our Heart Walk & Fun Run Kick-Off events to learn more about cardiac arrest AND pick-up the materials for this year's 2020 Heart Walk! Contact Peg @ 845-451-1313 or email Peg.Graham@culinary.edu with questions/pre-orders about the pasta dinners.
X-ALT-DESC;FMTTYPE=text/html:Dutchess Ulster Heart Walk Kick-off and Pasta Dinners TO GO at the Culinary Institute of America. Each year in the U.S.\, more than 350\,000 cardiac arrests occur outside of a hospital setting &ndash\; that&rsquo\;s more than the population of Dutchess County! Join us at our Heart Walk &amp\; Fun Run Kick-Off events to learn more about cardiac arrest AND pick-up the materials for this year&rsquo\;s 2020 Heart Walk! Contact Peg @ 845-451-1313 or email Peg.Graham@culinary.edu with questions/pre-orders about the pasta dinners.
LOCATION:Culinary Institute of America Post Road Brew House 1946 Campus Drive Hyde Park\, NY 12538
UID:e.2770.10482654
SEQUENCE:3
DTSTAMP:20260422T103252Z
URL:http://dutchesscountyregional.smartcms.site/events/details/heart-walk-kickoff-10482654
END:VEVENT

END:VCALENDAR
