BEGIN:VCALENDAR
VERSION:2.0
PRODID:-//ChamberMaster//Event Calendar 2.0//EN
METHOD:PUBLISH
X-PUBLISHED-TTL:P3D
REFRESH-INTERVAL:P3D
CALSCALE:GREGORIAN
BEGIN:VEVENT
DTSTART:20190625T220000Z
DTEND:20190626T000000Z
X-MICROSOFT-CDO-ALLDAYEVENT:FALSE
SUMMARY:Herbal Skin Care Workshop
DESCRIPTION:Natural skin care without toxins and chemicals. Get to know the best herbs for a beautiful skin. Learn how to make salves and cleansers. Herbal Skin Care: June 25\, 6:00 - 8:00 p.m. Learn ancient techniques of plant medicine making with PFP herbalist Beatrix Clarke. Make your own home remedies. FEE PFP Members: $25 Non-members: $30 Registration Required: https://www.farmproject.org/herbal-workshop-series
X-ALT-DESC;FMTTYPE=text/html:Natural skin care without toxins and chemicals. Get to know the best herbs for a beautiful skin. Learn how to make salves and cleansers. Herbal Skin Care: June 25\, 6:00 - 8:00 p.m. Learn ancient techniques of plant medicine making with PFP herbalist Beatrix Clarke. Make your own home remedies. FEE PFP Members: $25 Non-members: $30 Registration Required: https://www.farmproject.org/herbal-workshop-series
LOCATION:Poughkeepsie Farm Project 51 Vassar Farm Lane Poughkeepsie\, NY 12603
UID:e.2770.10480832
SEQUENCE:3
DTSTAMP:20260423T021210Z
URL:http://dutchesscountyregional.smartcms.site/events/details/herbal-skin-care-workshop-10480832
END:VEVENT

END:VCALENDAR
