BEGIN:VCALENDAR
VERSION:2.0
PRODID:-//ChamberMaster//Event Calendar 2.0//EN
METHOD:PUBLISH
X-PUBLISHED-TTL:P3D
REFRESH-INTERVAL:P3D
CALSCALE:GREGORIAN
BEGIN:VEVENT
DTSTART:20190528T220000Z
DTEND:20190529T000000Z
X-MICROSOFT-CDO-ALLDAYEVENT:FALSE
SUMMARY:Herbal Workshop Series: Herbal First Aid
DESCRIPTION:Make your own natural first aid kit for life's little accidents and discomforts. Learn how to make compresses and poultices. Herbal First Aid - May 28\, 6:00-8:00pm Learn ancient techniques of plant medicine making with PFP herbalist Beatrix Clarke. Make your own home remedies. FEE PFP Members: $25 Non-members: $30 Registration Required: https://www.farmproject.org/herbal-workshop-series
X-ALT-DESC;FMTTYPE=text/html:Make your own natural first aid kit for life&rsquo\;s little accidents and discomforts. Learn how to make compresses and poultices. Herbal First Aid - May 28\, 6:00-8:00pm Learn ancient techniques of plant medicine making with PFP herbalist Beatrix Clarke. Make your own home remedies. FEE PFP Members: $25 Non-members: $30 Registration Required: https://www.farmproject.org/herbal-workshop-series
LOCATION:Poughkeepsie Farm Project 51 Vassar Farm Lane Poughkeepsie\, NY 12603
UID:e.2770.10480715
SEQUENCE:3
DTSTAMP:20260423T034943Z
URL:http://dutchesscountyregional.smartcms.site/events/details/herbal-workshop-series-herbal-first-aid-10480715
END:VEVENT

END:VCALENDAR
