BEGIN:VCALENDAR
VERSION:2.0
PRODID:-//ChamberMaster//Event Calendar 2.0//EN
METHOD:PUBLISH
X-PUBLISHED-TTL:P3D
REFRESH-INTERVAL:P3D
CALSCALE:GREGORIAN
BEGIN:VEVENT
DTSTART:20190423T220000Z
DTEND:20190424T000000Z
X-MICROSOFT-CDO-ALLDAYEVENT:FALSE
SUMMARY:Herbal Workshop Series: Herbs for Children
DESCRIPTION:Herbs for Children Workshop with Herbalist Beatrix Clarke April 23\, 6-8 p.m. Keep your children healthy with natural herbal remedies. Get to know which herbs are mild and safe. Learn how to make syrups and gentle infusions. **Please note: This workshop is for adults who care for children\, not for children.** Learn ancient techniques of plant medicine making with PFP herbalist Beatrix Clarke. You will be able to make your own home remedies. Registration Required: https://www.farmproject.org/herbal-workshop-series
X-ALT-DESC;FMTTYPE=text/html:Herbs for Children Workshop with Herbalist Beatrix Clarke April 23\, 6-8 p.m. Keep your children healthy with natural herbal remedies. Get to know which herbs are mild and safe. Learn how to make syrups and gentle infusions. **Please note: This workshop is for adults who care for children\, not for children.** Learn ancient techniques of plant medicine making with PFP herbalist Beatrix Clarke. You will be able to make your own home remedies. Registration Required: https://www.farmproject.org/herbal-workshop-series
LOCATION:Poughkeepsie Farm Project 51 Vassar Farm Lane Poughkeepsie\, NY\, 12603
UID:e.2770.10480713
SEQUENCE:3
DTSTAMP:20260423T055214Z
URL:http://dutchesscountyregional.smartcms.site/events/details/herbal-workshop-series-herbs-for-children-10480713
END:VEVENT

END:VCALENDAR
