BEGIN:VCALENDAR
VERSION:2.0
PRODID:-//ChamberMaster//Event Calendar 2.0//EN
METHOD:PUBLISH
X-PUBLISHED-TTL:P3D
REFRESH-INTERVAL:P3D
CALSCALE:GREGORIAN
BEGIN:VEVENT
DTSTART:20190523T160000Z
DTEND:20190523T160000Z
X-MICROSOFT-CDO-ALLDAYEVENT:FALSE
SUMMARY:High Protein Meals Cooking Class
DESCRIPTION:Protein is an essential macronutrient in our diet most well known for maintaining and building muscle. In this class\, you will learn how to make high-protein meals that are great for any occasion. ($15)
X-ALT-DESC;FMTTYPE=text/html:Protein is an essential macronutrient in our diet most well known for maintaining and building muscle. In this class\, you will learn how to make high-protein meals that are great for any occasion. ($15)
LOCATION:NewYork-Presbyterian Hudson Valley Hospital Chef Peter X. Kelly Teaching Kitchen 1992 Crompond Road Cortlandt Manor\, NY
UID:e.2770.10480701
SEQUENCE:3
DTSTAMP:20260423T034849Z
URL:http://dutchesscountyregional.smartcms.site/events/details/high-protein-meals-cooking-class-10480701
END:VEVENT

END:VCALENDAR
