BEGIN:VCALENDAR
VERSION:2.0
PRODID:-//ChamberMaster//Event Calendar 2.0//EN
METHOD:PUBLISH
X-PUBLISHED-TTL:P3D
REFRESH-INTERVAL:P3D
CALSCALE:GREGORIAN
BEGIN:VEVENT
DTSTART:20180602T134500Z
DTEND:20180602T170000Z
X-MICROSOFT-CDO-ALLDAYEVENT:FALSE
SUMMARY:Hike Sugar Loaf Mountain
DESCRIPTION:Join us Saturday\, June 2nd for a hike of Sugar Loaf Mountain. We will meet at the Seligmann Center at the Citizens Foundation (23 White Oak Dr. Sugar Loaf\, NY 10981) and at 10 am take a hay ride to the trail head.There will be sandwiches and Bellvale Ice cream waiting for us. This event is FREE and open to the public. Registration required- event is limited to 50 people. Wear appropriate clothing- it's tick season! To register go to our website www.occitizensfoundation.org. (Rain Date June 3rd) Sponsorship opportunities available\, contact Christa Orsino at corsino@occitizensfoundation.org or call 845.469.9459. Thank you to our sponsor: Lycian Stage Lighting
X-ALT-DESC;FMTTYPE=text/html:Join us Saturday\, June 2nd for a hike of Sugar Loaf Mountain. We will meet at the Seligmann Center at the Citizens Foundation (23 White Oak Dr. Sugar Loaf\, NY 10981) and at 10 am take a hay ride to the trail head.There will be sandwiches and Bellvale Ice cream waiting for us. This event is FREE and open to the public. Registration required- event is limited to 50 people. Wear appropriate clothing- it&#39\;s tick season! To register go to our website www.occitizensfoundation.org. (Rain Date June 3rd) Sponsorship opportunities available\, contact Christa Orsino at corsino@occitizensfoundation.org or call 845.469.9459. Thank you to our sponsor: Lycian Stage Lighting
LOCATION:Seligmann Center at the Citizens Foundation 23 White Oak Dr Sugar Loaf\, NY 10981
UID:e.2770.10477831
SEQUENCE:3
DTSTAMP:20260426T021729Z
URL:http://dutchesscountyregional.smartcms.site/events/details/hike-sugar-loaf-mountain-10477831
END:VEVENT

END:VCALENDAR
