BEGIN:VCALENDAR
VERSION:2.0
PRODID:-//ChamberMaster//Event Calendar 2.0//EN
METHOD:PUBLISH
X-PUBLISHED-TTL:P3D
REFRESH-INTERVAL:P3D
CALSCALE:GREGORIAN
BEGIN:VEVENT
DTSTART:20181208T200000Z
DTEND:20181208T220000Z
X-MICROSOFT-CDO-ALLDAYEVENT:FALSE
SUMMARY:Holiday concert: Northern Dutchess Symphony Orchestra
DESCRIPTION:Take a ride to whoVille and enjoy holiday favorites from around the world. Special guests include the Hudson Valley saxophone orchestra and Santa narrating 'twas the night before Christmas
X-ALT-DESC;FMTTYPE=text/html:Take a ride to whoVille and enjoy holiday favorites from around the world. Special guests include the Hudson Valley saxophone orchestra and Santa narrating &lsquo\;twas the night before Christmas
LOCATION:Culinary Institute Marriott Pavilion
UID:e.2770.10479826
SEQUENCE:3
DTSTAMP:20260425T142612Z
URL:http://dutchesscountyregional.smartcms.site/events/details/holiday-concert-northern-dutchess-symphony-orchestra-10479826
END:VEVENT

END:VCALENDAR
