BEGIN:VCALENDAR
VERSION:2.0
PRODID:-//ChamberMaster//Event Calendar 2.0//EN
METHOD:PUBLISH
X-PUBLISHED-TTL:P3D
REFRESH-INTERVAL:P3D
CALSCALE:GREGORIAN
BEGIN:VEVENT
DTSTART:20191214T160000Z
DTEND:20191214T210000Z
X-MICROSOFT-CDO-ALLDAYEVENT:FALSE
SUMMARY:Holiday Fair & Market
DESCRIPTION:Grab your ugly holiday sweater and join us at our Annual Holiday Fair & Market on Saturday\, December 14th! Santa will be visiting and taking pictures on his tractor. Local artisans will be here offering free samples of their products   it's the perfect opportunity to buy and taste locally-crafted holiday gifts! Kids get to make a festive ornament to take home at our children's craft tables in "Santa's workshop". Ornament making is free of charge. Check our event page on Facebook for details on vendors and Santa's schedule!
X-ALT-DESC;FMTTYPE=text/html:Grab your ugly holiday sweater and join us at our Annual Holiday Fair &amp\; Market on Saturday\, December 14th! Santa will be visiting and taking pictures on his tractor. Local artisans will be here offering free samples of their products &ndash\; it&rsquo\;s the perfect opportunity to buy and taste locally-crafted holiday gifts! Kids get to make a festive ornament to take home at our children&rsquo\;s craft tables in &ldquo\;Santa&rsquo\;s workshop&rdquo\;. Ornament making is free of charge. Check our event page on Facebook for details on vendors and Santa&#39\;s schedule!
LOCATION:Fishkill Farms 9 Fishkill Farms Rd Hopewell Junction\, NY 12533
UID:e.2770.10482531
SEQUENCE:3
DTSTAMP:20260422T135850Z
URL:http://dutchesscountyregional.smartcms.site/events/details/holiday-fair-market-10482531
END:VEVENT

END:VCALENDAR
