BEGIN:VCALENDAR
VERSION:2.0
PRODID:-//ChamberMaster//Event Calendar 2.0//EN
METHOD:PUBLISH
X-PUBLISHED-TTL:P3D
REFRESH-INTERVAL:P3D
CALSCALE:GREGORIAN
BEGIN:VEVENT
DTSTART:20180531T220000Z
DTEND:20180603T230000Z
X-MICROSOFT-CDO-ALLDAYEVENT:FALSE
SUMMARY:Holy Trinity Church Festival
DESCRIPTION:Holy Trinity Parish Festival located on the corner of Main Street and Raymond Ave (Poughkeepsie) Carnival rides with daily wrist band Variety of foods Daily music 50/50 drawings gift raffle table Religious article table Free admission and parking Family fun event
X-ALT-DESC;FMTTYPE=text/html:Holy Trinity Parish Festival located on the corner of Main Street and Raymond Ave (Poughkeepsie) Carnival rides with daily wrist band Variety of foods Daily music 50/50 drawings gift raffle table Religious article table Free admission and parking Family fun event
LOCATION:located on the corner of Main Street and Raymond Ave (Poughkeepsie)
UID:e.2770.10477794
SEQUENCE:3
DTSTAMP:20260426T022657Z
URL:http://dutchesscountyregional.smartcms.site/events/details/holy-trinity-church-festival-10477794
END:VEVENT

END:VCALENDAR
