BEGIN:VCALENDAR
VERSION:2.0
PRODID:-//ChamberMaster//Event Calendar 2.0//EN
METHOD:PUBLISH
X-PUBLISHED-TTL:P3D
REFRESH-INTERVAL:P3D
CALSCALE:GREGORIAN
BEGIN:VEVENT
DTSTART:20190404T220000Z
DTEND:20190404T230000Z
X-MICROSOFT-CDO-ALLDAYEVENT:FALSE
SUMMARY:Home Buying 101
DESCRIPTION:Home Buying 101\n\nThinking of buying a home? Come chat with the exterts! We have a Licensed Real Estate Salesperson\, Insurance Broker\, Financial Advisor and a Loan Originator all here to answer questions that you may have in a comforitable and judge free enviornment. The process can be tough\, let us guide you.
X-ALT-DESC;FMTTYPE=text/html:Home Buying 101<br />\nThinking of buying a home? Come chat with the exterts! We have a Licensed Real Estate Salesperson\, Insurance Broker\, Financial Advisor and a Loan Originator all here to answer questions that you may have in a comforitable and judge free enviornment. The process can be tough\, let us guide you.
LOCATION:Coldwell Banker Village Green Realty 6423 Montgomery Ave Rhinebeck\, NY 12572
UID:e.2770.10480641
SEQUENCE:3
DTSTAMP:20260423T055349Z
URL:http://dutchesscountyregional.smartcms.site/events/details/home-buying-101-04-04-2019-10480641
END:VEVENT

END:VCALENDAR
