BEGIN:VCALENDAR
VERSION:2.0
PRODID:-//ChamberMaster//Event Calendar 2.0//EN
METHOD:PUBLISH
X-PUBLISHED-TTL:P3D
REFRESH-INTERVAL:P3D
CALSCALE:GREGORIAN
BEGIN:VEVENT
DTSTART:20190613T213000Z
DTEND:20190613T230000Z
X-MICROSOFT-CDO-ALLDAYEVENT:FALSE
SUMMARY:How to Set-up and Launch Your New Business
DESCRIPTION:Today\, more and more women are becoming entrepreneurs. Turn your dream into a reality and start your own business. Join Jessica Glass\, Business Attorney at SRDD Law as she discusses where to begin and how to navigate through the details.\n\n\n\nWe will cover: \n\n	Business formation\n	Partnerships\n	Operating agreements\n	Purchase and sale negotiations and contracts\n	Contract negotiations\n	Commercial leases\n	Consulting contracts\n\nThis event is free to attend for women looking to start their own business. Light food and beverages will be offered. Attendees of this event will be eligible for a complimentary consultation.
X-ALT-DESC;FMTTYPE=text/html:<span style="color:rgb(29\, 33\, 41)\; font-family:helvetica\,arial\,sans-serif\; font-size:14px">Today\, more and more women are becoming entrepreneurs. Turn your dream into a reality and start your own business. Join </span><a href="https://www.facebook.com/jessica.glass.7" style="color: rgb(54\, 88\, 153)\; cursor: pointer\; text-decoration-line: none\; font-family: Helvetica\, Arial\, sans-serif\; font-size: 14px\; white-space: pre-wrap\;" target="_blank">Jessica Glass</a><span style="color:rgb(29\, 33\, 41)\; font-family:helvetica\,arial\,sans-serif\; font-size:14px">\, Business Attorney at SRDD Law as she discusses where to begin and how to navigate through the details.</span><br />\n<br />\n<span style="color:rgb(29\, 33\, 41)\; font-family:helvetica\,arial\,sans-serif\; font-size:14px">We will cover: </span>\n<ul>\n	<li><span style="color:rgb(29\, 33\, 41)\; font-family:helvetica\,arial\,sans-serif\; font-size:14px">Business formation</span></li>\n	<li><span style="color:rgb(29\, 33\, 41)\; font-family:helvetica\,arial\,sans-serif\; font-size:14px">Partnerships</span></li>\n	<li><span style="color:rgb(29\, 33\, 41)\; font-family:helvetica\,arial\,sans-serif\; font-size:14px">Operating agreements</span></li>\n	<li><span style="color:rgb(29\, 33\, 41)\; font-family:helvetica\,arial\,sans-serif\; font-size:14px">Purchase and sale negotiations and contracts</span></li>\n	<li><span style="color:rgb(29\, 33\, 41)\; font-family:helvetica\,arial\,sans-serif\; font-size:14px">Contract negotiations</span></li>\n	<li><span style="color:rgb(29\, 33\, 41)\; font-family:helvetica\,arial\,sans-serif\; font-size:14px">Commercial leases</span></li>\n	<li><span style="color:rgb(29\, 33\, 41)\; font-family:helvetica\,arial\,sans-serif\; font-size:14px">Consulting contracts</span></li>\n</ul>\n<span style="color:rgb(29\, 33\, 41)\; font-family:helvetica\,arial\,sans-serif\; font-size:14px">This event is free to attend for women looking to start their own business. Light food and beverages will be offered. Attendees of this event will be eligible for a complimentary consultation.</span>
LOCATION:All Sport Health and Fitness
UID:e.2770.10480732
SEQUENCE:3
DTSTAMP:20260423T021322Z
URL:http://dutchesscountyregional.smartcms.site/events/details/how-to-set-up-and-launch-your-new-business-10480732
END:VEVENT

END:VCALENDAR
