BEGIN:VCALENDAR
VERSION:2.0
PRODID:-//ChamberMaster//Event Calendar 2.0//EN
METHOD:PUBLISH
X-PUBLISHED-TTL:P3D
REFRESH-INTERVAL:P3D
CALSCALE:GREGORIAN
BEGIN:VEVENT
DTSTART:20210223T180000Z
DTEND:20210223T190000Z
X-MICROSOFT-CDO-ALLDAYEVENT:FALSE
SUMMARY:How to Use Video to Market Your Business: Dutchess Tourism Virtual Lunch & Learn Series
DESCRIPTION:Video has seen tremendous growth in its popularity and success in the last year as a tool to reach customers and visitors. Edward Roy\, Director and Producer from J6 MediaWorks and The Cinehub will discuss strategies and tips for how you can utilize video to strengthen your marketing and social media presence on your own\, as well as give advice about when and how to use video professionals. Learn from Ed's nearly 30 years in the industry so you can take advantage of this powerful marketing tool.
X-ALT-DESC;FMTTYPE=text/html:Video has seen tremendous growth in its popularity and success in the last year as a tool to reach customers and visitors. Edward Roy\, Director and Producer from J6 MediaWorks and The Cinehub will discuss strategies and tips for how you can utilize video to strengthen your marketing and social media presence on your own\, as well as give advice about when and how to use video professionals. Learn from Ed&#39\;s nearly 30 years in the industry so you can take advantage of this powerful marketing tool.
LOCATION:Virtual Webinar
UID:e.2770.10484949
SEQUENCE:3
DTSTAMP:20260421T145440Z
URL:http://dutchesscountyregional.smartcms.site/events/details/how-to-use-video-to-market-your-business-dutchess-tourism-virtual-lunch-learn-series-10484949
END:VEVENT

END:VCALENDAR
